BEGIN:VCALENDAR
VERSION:2.0
PRODID:-//ChamberMaster//Event Calendar 2.0//EN
METHOD:PUBLISH
X-PUBLISHED-TTL:P3D
REFRESH-INTERVAL:P3D
CALSCALE:GREGORIAN
BEGIN:VEVENT
DTSTART:20240131T010000Z
DTEND:20240131T020000Z
X-MICROSOFT-CDO-ALLDAYEVENT:FALSE
SUMMARY:Pin Together Your Genealogical Past on Pinterest on Zoom
DESCRIPTION:Register and join genealogist Debra Dudek on Zoom to learn how to use Pinterest to sort\, share\, and promote your genealogical projects\, including creating pins from your research\, collaborating with others\, and sharing your successes.\n\nThis program is recorded and available for 4 weeks after the program.
X-ALT-DESC;FMTTYPE=text/html:<p>Register and join genealogist Debra Dudek on Zoom to learn how to use Pinterest to sort\, share\, and promote your genealogical projects\, including creating pins from your research\, collaborating with others\, and sharing your successes.</p>\n\n<p>This program is recorded and available for 4 weeks after the program.</p>\n
LOCATION:Lake Forest Library on Zoom
UID:e.1126.26153
SEQUENCE:3
DTSTAMP:20260424T082106Z
URL:https://business.lflbchamber.com/events/details/pin-together-your-genealogical-past-on-pinterest-on-zoom-26153
END:VEVENT

END:VCALENDAR
