BEGIN:VCALENDAR
VERSION:2.0
PRODID:-//ChamberMaster//Event Calendar 2.0//EN
METHOD:PUBLISH
X-PUBLISHED-TTL:P3D
REFRESH-INTERVAL:P3D
CALSCALE:GREGORIAN
BEGIN:VEVENT
DTSTART:20210319T130000Z
DTEND:20210319T170000Z
X-MICROSOFT-CDO-ALLDAYEVENT:FALSE
SUMMARY:PowerPoint Advanced
DESCRIPTION:PowerPoint provides you with a variety of tools that can help you deliver content in nearly any situation\, while saving time and effort. This course picks up where PowerPoint Basics ended. Learn to add tables and charts\, integrate previous presentations\, work the Slide Master\, animation\, slide show function and more. Join us to become a PowerPoint pro!
X-ALT-DESC;FMTTYPE=text/html:PowerPoint provides you with a variety of tools that can help you deliver content in nearly any situation\, while saving time and effort. This course picks up where PowerPoint Basics ended. Learn to add tables and charts\, integrate previous presentations\, work the Slide Master\, animation\, slide show function and more. Join us to become a PowerPoint pro!
LOCATION:Zoom
UID:e.1126.19845
SEQUENCE:3
DTSTAMP:20260425T214245Z
URL:https://business.lflbchamber.com/events/details/powerpoint-advanced-19845
END:VEVENT

END:VCALENDAR
