BEGIN:VCALENDAR
VERSION:2.0
PRODID:-//ChamberMaster//Event Calendar 2.0//EN
METHOD:PUBLISH
X-PUBLISHED-TTL:P3D
REFRESH-INTERVAL:P3D
CALSCALE:GREGORIAN
BEGIN:VEVENT
DTSTART:20250501T230000Z
DTEND:20250502T000000Z
X-MICROSOFT-CDO-ALLDAYEVENT:FALSE
SUMMARY:PreK Art Show - Lake Bluff School District 65
DESCRIPTION:PreK Art Show - Lake Bluff School District 65
X-ALT-DESC;FMTTYPE=text/html:PreK Art Show - Lake Bluff School District 65
LOCATION:
UID:e.1126.28269
SEQUENCE:3
DTSTAMP:20260424T053427Z
URL:https://business.lflbchamber.com/events/details/prek-art-show-lake-bluff-school-district-65-28269
END:VEVENT

END:VCALENDAR
