BEGIN:VCALENDAR
VERSION:2.0
PRODID:-//ChamberMaster//Event Calendar 2.0//EN
METHOD:PUBLISH
X-PUBLISHED-TTL:P3D
REFRESH-INTERVAL:P3D
CALSCALE:GREGORIAN
BEGIN:VEVENT
DTSTART:20220921T180000Z
DTEND:20220921T190000Z
X-MICROSOFT-CDO-ALLDAYEVENT:FALSE
SUMMARY:Preparing For Medicare Annual Enrollment
DESCRIPTION:Presented by Le Anh Blanchard\, BNB Financial Services\, LLC. It's that time of the year again. We will be discussing 7 things you can do now to prepare for Medicare's Annual Enrollment Period. Join us to learn more and to start your research early. This is an educational event with no solicitation.
X-ALT-DESC;FMTTYPE=text/html:Presented by Le Anh Blanchard\, BNB Financial Services\, LLC. It&#39\;s that time of the year again. We will be discussing 7 things you can do now to prepare for Medicare&#39\;s Annual Enrollment Period. Join us to learn more and to start your research early. This is an educational event with no solicitation.
LOCATION:https://www.regpack.com/reg/templates/build/?g_id=100909958
UID:e.1126.22605
SEQUENCE:3
DTSTAMP:20260426T040753Z
URL:https://business.lflbchamber.com/events/details/preparing-for-medicare-annual-enrollment-22605
END:VEVENT

END:VCALENDAR
