BEGIN:VCALENDAR
VERSION:2.0
PRODID:-//ChamberMaster//Event Calendar 2.0//EN
METHOD:PUBLISH
X-PUBLISHED-TTL:P3D
REFRESH-INTERVAL:P3D
CALSCALE:GREGORIAN
BEGIN:VEVENT
DTSTART:20220928T000000Z
DTEND:20220928T013000Z
X-MICROSOFT-CDO-ALLDAYEVENT:FALSE
SUMMARY:Privacy and Consent in the Digital Age
DESCRIPTION:Interested in learning more about issues of privacy and the internet? Fred Cate\, Vice President for Research\, Distinguished Professor\, C. Ben Dutton Professor of Law\, and Adjunct Professor of Informatics and Computing at Indiana University\, will speak on legal issues regarding privacy vis- -vis technology and the internet as part of Lake Forest College's Privacy and the Internet lecture series. He will discuss the legal issues regarding the pervasiveness\, legality\, and enforcement of consent agreements.
X-ALT-DESC;FMTTYPE=text/html:Interested in learning more about issues of privacy and the internet? Fred Cate\, Vice President for Research\, Distinguished Professor\, C. Ben Dutton Professor of Law\, and Adjunct Professor of Informatics and Computing at Indiana University\, will speak on legal issues regarding privacy vis-&agrave\;-vis technology and the internet as part of Lake Forest College&#39\;s Privacy and the Internet lecture series. He will discuss the legal issues regarding the pervasiveness\, legality\, and enforcement of consent agreements.
LOCATION:Live virtual or in person at Brown Hall\, Lake Forest College\, 555 N. Sheridan Rd\, Lake Forest
UID:e.1126.22614
SEQUENCE:3
DTSTAMP:20260426T040829Z
URL:https://business.lflbchamber.com/events/details/privacy-and-consent-in-the-digital-age-22614
END:VEVENT

END:VCALENDAR
