BEGIN:VCALENDAR
VERSION:2.0
PRODID:-//ChamberMaster//Event Calendar 2.0//EN
METHOD:PUBLISH
X-PUBLISHED-TTL:P3D
REFRESH-INTERVAL:P3D
CALSCALE:GREGORIAN
BEGIN:VEVENT
DTSTART:20190718T151500Z
DTEND:20190718T164500Z
X-MICROSOFT-CDO-ALLDAYEVENT:FALSE
SUMMARY:PRODUCTIVITY – THE SECRET SAUCE FOR A SUCCESSFUL JOB SEARCH
DESCRIPTION:Presented by: Catherine Morgan\, Career Transition Coach\, Point A to Point B Transitions Inc. \n\n     Who doesn't need to squeeze more productive time out of their day? And have you ever noticed that when you have too much time\, nothing gets done? During this interactive session you will learn how you can be more productive every day. In this session you will receive actionable tips that you can use immediately. \n\n        How to stay focused on your job search\n\n	How to find more time in your day\n	How to prioritize and do the right things\n	How to get going when your get-up-and-go got up and went\n	How to manage overwhelm\n\n     As a transition and entrepreneur coach\, Catherine helps people to get from Point A to Point B in their career or in their life.  She has been coaching clients and colleagues through job and life transitions for more than 15 years and speaks on topics related to career transition and entrepreneurship.\n\n     Catherine's company\, Point A to Point B Transitions Inc.\, is a virtual provider of coaching services to individuals out of professional services\, financial services\, or technology who are in job transition or are looking to establish or grow their own successful services businesses such as consulting or coaching practices. Her former employers include KPMG\, Arthur Andersen\, and Deloitte and through her own consulting company\, she was a project employee for Protiviti\, \n\nNavigant Consulting and Resources Global.  Catherine graduated from Vassar College with a B.A. in Psychology.
X-ALT-DESC;FMTTYPE=text/html:Presented by:&nbsp\;<span style="font-family:tahoma\,sans-serif"><span style="font-size:12.0pt">Catherine Morgan\, Career Transition Coach\, Point A to Point B Transitions Inc.&nbsp\;</span></span><br />\n<span style="font-family:tahoma\,sans-serif">&nbsp\; &nbsp\; &nbsp\;Who doesn&rsquo\;t need to squeeze more productive time out of their day? And have you ever noticed that when you have too much time\, nothing gets done? During this interactive session you will learn how you can be more productive every day. In this session you will receive actionable tips that you can use immediately. </span><br />\n<span style="font-family:symbol">&middot\;&nbsp\;&nbsp\;&nbsp\;&nbsp\;&nbsp\;&nbsp\; </span><span style="font-family:tahoma\,sans-serif">How to stay focused on your job search</span>\n<ul>\n	<li><span style="font-family:tahoma\,sans-serif">How to find more time in your day</span></li>\n	<li><span style="font-family:tahoma\,sans-serif">How to prioritize and do the right things</span></li>\n	<li><span style="font-family:tahoma\,sans-serif">How to get going when your get-up-and-go got up and went</span></li>\n	<li><span style="font-family:tahoma\,sans-serif">How to manage overwhelm</span></li>\n</ul>\n<span style="font-family:tahoma\,sans-serif">&nbsp\;&nbsp\;&nbsp\;&nbsp\; As a transition and entrepreneur coach\, Catherine helps people to get from Point A to Point B in their career or in their life.&nbsp\; She has been coaching clients and colleagues through job and life transitions for more than 15 years and speaks on topics related to career transition and entrepreneurship.</span><br />\n<span style="font-family:tahoma\,sans-serif">&nbsp\;&nbsp\;&nbsp\;&nbsp\; Catherine&rsquo\;s company\, Point A to Point B Transitions Inc.\, is a virtual provider of coaching services to individuals out of professional services\, financial services\, or technology who are in job transition or are looking to establish or grow their own successful services businesses such as consulting or coaching practices. Her former employers include KPMG\, Arthur Andersen\, and Deloitte and through her own consulting company\, she was a project employee for Protiviti\, </span><br />\n<span style="font-family:tahoma\,sans-serif"><span style="font-size:12.0pt">Navigant Consulting and Resources Global.&nbsp\; Catherine graduated from Vassar College with a B.A. in Psychology.</span></span>
LOCATION:Career Resource Center Grove Cultural Campus 40 E. Old Mill Road Lake Forest\, IL 60045
UID:e.1126.18011
SEQUENCE:3
DTSTAMP:20260424T044043Z
URL:https://business.lflbchamber.com/events/details/productivity-the-secret-sauce-for-a-successful-job-search-07-18-2019-18011
END:VEVENT

END:VCALENDAR
