BEGIN:VCALENDAR
VERSION:2.0
PRODID:-//ChamberMaster//Event Calendar 2.0//EN
METHOD:PUBLISH
X-PUBLISHED-TTL:P3D
REFRESH-INTERVAL:P3D
CALSCALE:GREGORIAN
BEGIN:VEVENT
DTSTART:20250506T180000Z
DTEND:20250506T210000Z
X-MICROSOFT-CDO-ALLDAYEVENT:FALSE
SUMMARY:Project Flip Flop
DESCRIPTION:Project Flip Flop For Health May/June: Summer is critical for children who suffer from homelessness. Help children be prepared & healthier. ($15 Project Flip Flop WeCare Package includes the correct size for every child.) What to Expect on the Day of your Flip Flop Event: Activity: Make a Flip Flop card\, Fill Flip Flop WeCare Packages & Positive Affirmation Bracelet Kits. Add a $10 McDonald's or Dunkin Gift Card to help youth get off the street at night\, feel safer\, & eat with dignity.
X-ALT-DESC;FMTTYPE=text/html:Project Flip Flop For Health May/June: Summer is critical for children who suffer from homelessness. Help children be prepared &amp\; healthier. ($15 Project Flip Flop WeCare Package includes the correct size for every child.) What to Expect on the Day of your Flip Flop Event: Activity: Make a Flip Flop card\, Fill Flip Flop WeCare Packages &amp\; Positive Affirmation Bracelet Kits. Add a $10 McDonald&#39\;s or Dunkin Gift Card to help youth get off the street at night\, feel safer\, &amp\; eat with dignity.
LOCATION:Fill a Heart 4 Kids 1 Market Square Court (behind Starbucks & Williams Sonoma) Lake Forest\, IL 60045
UID:e.1126.30753
SEQUENCE:3
DTSTAMP:20260424T053242Z
URL:https://business.lflbchamber.com/events/details/project-flip-flop-05-06-2025-30753
END:VEVENT

END:VCALENDAR
