BEGIN:VCALENDAR
VERSION:2.0
PRODID:-//ChamberMaster//Event Calendar 2.0//EN
METHOD:PUBLISH
X-PUBLISHED-TTL:P3D
REFRESH-INTERVAL:P3D
CALSCALE:GREGORIAN
BEGIN:VEVENT
DTSTART:20200304T000000Z
DTEND:20200304T010000Z
X-MICROSOFT-CDO-ALLDAYEVENT:FALSE
SUMMARY:Project Selfy Wellness Series: Taking a Selfy From The Inside!
DESCRIPTION:Everything you need to know about sleep but are too tired to ask!
X-ALT-DESC;FMTTYPE=text/html:Everything you need to know about sleep but are too tired to ask!
LOCATION:Gorton Community Center
UID:e.1126.18762
SEQUENCE:3
DTSTAMP:20260420T122024Z
URL:https://business.lflbchamber.com/events/details/project-selfy-wellness-series-taking-a-selfy-from-the-inside-18762
END:VEVENT

END:VCALENDAR
