BEGIN:VCALENDAR
VERSION:2.0
PRODID:-//ChamberMaster//Event Calendar 2.0//EN
METHOD:PUBLISH
X-PUBLISHED-TTL:P3D
REFRESH-INTERVAL:P3D
CALSCALE:GREGORIAN
BEGIN:VEVENT
DTSTART:20201208T200000Z
DTEND:20201208T210000Z
X-MICROSOFT-CDO-ALLDAYEVENT:FALSE
SUMMARY:Questioning Capacity Webinar
DESCRIPTION:The ever-engaging Attorney Peck will be discussing how one determines if an individual is capable of making decisions\; overview what ethical issues can arise in various stages of decision making\, and who has the right to make decisions for one with diminished capacity. Learn how to determine mental capacity and review the laws in place to protect people with capacity issues. Please join us! There is no fee to join. RSVP by calling 847-462-0885 or by emailing events@elderwerks.org. Webinar access information will be provided prior to the date of the event.
X-ALT-DESC;FMTTYPE=text/html:The ever-engaging Attorney Peck will be discussing how one determines if an individual is capable of making decisions\; overview what ethical issues can arise in various stages of decision making\, and who has the right to make decisions for one with diminished capacity. Learn how to determine mental capacity and review the laws in place to protect people with capacity issues. Please join us! There is no fee to join. RSVP by calling 847-462-0885 or by emailing events@elderwerks.org. Webinar access information will be provided prior to the date of the event.
LOCATION:Webinar
UID:e.1126.19711
SEQUENCE:3
DTSTAMP:20260425T171433Z
URL:https://business.lflbchamber.com/events/details/questioning-capacity-webinar-19711
END:VEVENT

END:VCALENDAR
