BEGIN:VCALENDAR
VERSION:2.0
PRODID:-//ChamberMaster//Event Calendar 2.0//EN
METHOD:PUBLISH
X-PUBLISHED-TTL:P3D
REFRESH-INTERVAL:P3D
CALSCALE:GREGORIAN
BEGIN:VEVENT
DTSTART:20250515T130000Z
DTEND:20250515T160000Z
X-MICROSOFT-CDO-ALLDAYEVENT:FALSE
SUMMARY:Quickbooks Online for the Expert User
DESCRIPTION:Advance your QuickBooks expertise with project costing\, payroll tools and budgeting for more complex finances.
X-ALT-DESC;FMTTYPE=text/html:<!--StartFragment--><span data-olk-copy-source="MessageBody" style="margin: 0px\;">Advance your QuickBooks expertise with project costing\, payroll tools and budgeting for more complex finances.</span><!--EndFragment-->
LOCATION:Zoom
UID:e.1126.30717
SEQUENCE:3
DTSTAMP:20260424T023248Z
URL:https://business.lflbchamber.com/events/details/quickbooks-online-for-the-expert-user-30717
END:VEVENT

END:VCALENDAR
