BEGIN:VCALENDAR
VERSION:2.0
PRODID:-//ChamberMaster//Event Calendar 2.0//EN
METHOD:PUBLISH
X-PUBLISHED-TTL:P3D
REFRESH-INTERVAL:P3D
CALSCALE:GREGORIAN
BEGIN:VEVENT
DTSTART:20190313T233000Z
DTEND:20190314T013000Z
X-MICROSOFT-CDO-ALLDAYEVENT:FALSE
SUMMARY:Ragdale's 2019 Novel Affair Preview Party
DESCRIPTION:Ragdale's 13th Annual Novel Affair brings together acclaimed authors and artists to Lake Forest for a weekend of creativity and conversation in support of Ragdale\, the historic artists' residency and its Ragdale in Schools programs.\n\n \n\nThe complete roster of distinguished artists and writers at the Novel Affair reception and dinners will be revealed at the preview party at the North Shore Distillery in Libertyville (Green Oaks) on Wednesday\, March 13 beginning at 6:30pm.   \n\n \n\nEnjoy a special presentation by award-winning author Rebecca Makkai in conversation with multimedia writer\, professor\, and dean Davis Schneiderman as they highlight Novel Affair's featured guests. This will be your first chance to buy tickets and books for the Novel Affair dinner of your choice.\n\n \n\nPreview tickets are $40 in advance and $50/person at the door and include one drink ticket.  Advance tickets can be purchased online at http://ragdale.org/programs/upcoming-events/   Attendees will also receive a $25 coupon discount for Novel Affair tickets.  North Shore Distillery is located at 13990 Rockland Road\, Green Oaks\, IL 60048   \n\n The 2019 Novel Affair reception and dinners with the featured artists takes place Saturday\, April 27.  Complete details and tickets are available online at www.ragdale.org  or by calling Ragdale at 847.234.1063.
X-ALT-DESC;FMTTYPE=text/html:Ragdale&rsquo\;s 13th Annual Novel Affair brings together acclaimed authors and artists to Lake Forest for a weekend of creativity and conversation in support of Ragdale\, the historic artists&rsquo\; residency and its Ragdale in Schools programs.<br />\n&nbsp\;<br />\nThe complete roster of distinguished artists and writers at the Novel Affair reception and dinners will be revealed at the preview party at the North Shore Distillery in Libertyville (Green Oaks) on Wednesday\, March 13 beginning at 6:30pm.&nbsp\; &nbsp\;<br />\n&nbsp\;<br />\nEnjoy a special presentation by award-winning author Rebecca Makkai in conversation with multimedia writer\, professor\, and dean Davis Schneiderman as they highlight Novel Affair&rsquo\;s featured guests. This will be your first chance to buy tickets and books for the Novel Affair dinner of your choice.<br />\n&nbsp\;<br />\nPreview tickets are $40 in advance and $50/person at the door and include one drink ticket.&nbsp\; Advance tickets can be purchased online at http://ragdale.org/programs/upcoming-events/&nbsp\;&nbsp\; Attendees will also receive a $25 coupon discount for Novel Affair tickets.&nbsp\; North Shore Distillery is located at 13990 Rockland Road\, Green Oaks\, IL 60048&nbsp\; &nbsp\;<br />\n&nbsp\;The 2019 Novel Affair reception and dinners with the featured artists takes place Saturday\, April 27.&nbsp\; Complete details and tickets are available online at www.ragdale.org&nbsp\; or by calling Ragdale at 847.234.1063.&nbsp\;&nbsp\;
LOCATION:North Shore Distillery is located at 13990 Rockland Road\, Green Oaks\, IL 60048
UID:e.1126.17591
SEQUENCE:3
DTSTAMP:20260424T100608Z
URL:https://business.lflbchamber.com/events/details/ragdale-s-2019-novel-affair-preview-party-17591
END:VEVENT

END:VCALENDAR
