BEGIN:VCALENDAR
VERSION:2.0
PRODID:-//ChamberMaster//Event Calendar 2.0//EN
METHOD:PUBLISH
X-PUBLISHED-TTL:P3D
REFRESH-INTERVAL:P3D
CALSCALE:GREGORIAN
BEGIN:VEVENT
DTSTART:20210327T000000Z
DTEND:20210327T010000Z
X-MICROSOFT-CDO-ALLDAYEVENT:FALSE
SUMMARY:Ragdale Talks
DESCRIPTION:Join us for a Women's History Month celebration\, featuring authors Michelle D. Bowdler and Honor Moore. They will discuss their recent work and the ways in which women's history is expressed through art.
X-ALT-DESC;FMTTYPE=text/html:Join us for a Women&#39\;s History Month celebration\, featuring authors Michelle D. Bowdler and Honor Moore. They will discuss their recent work and the ways in which women&#39\;s history is expressed through art.
LOCATION:Online via Zoom
UID:e.1126.19969
SEQUENCE:3
DTSTAMP:20260425T214256Z
URL:https://business.lflbchamber.com/events/details/ragdale-talks-19969
END:VEVENT

END:VCALENDAR
