BEGIN:VCALENDAR
VERSION:2.0
PRODID:-//ChamberMaster//Event Calendar 2.0//EN
METHOD:PUBLISH
X-PUBLISHED-TTL:P3D
REFRESH-INTERVAL:P3D
CALSCALE:GREGORIAN
BEGIN:VEVENT
DTSTART:20190320T151500Z
DTEND:20190320T164500Z
X-MICROSOFT-CDO-ALLDAYEVENT:FALSE
SUMMARY:RE-LAUNCH YOU: Liftoff After Layoff
DESCRIPTION:Presented by: Catherine Morgan\, Transition and Entrepreneur Coach\n\n          Have you been put in a position where you have to make a change because you were laid off?  Forced transitions are difficult and it is easy to feel stuck or overwhelmed. But transition can be a chance to evaluate and to focus on new beginnings. Learn how you can re-frame transition\, discover what the new normal is\, discuss the roller coaster of a job search\, and hear how to make your transition easier. Come away with some "quick hits" to build confidence\, accountability and momentum. This program includes tips to create the right mindset for success\, and actionable techniques that you can immediately use in your search.  \n\n          Catherine Morgan is a transition and entrepreneur coach. She has been coaching clients and colleagues through job and life transitions for more than 15 years. Her company\, Point A to Point B Transitions Inc.\, is a virtual provider of coaching services to individuals who are in job transition or are looking to establish or grow their own successful services businesses. Ms. Morgan graduated from Vassar College with a Bachelor of Arts in Psychology. She is also writes blogs for various local media and sites supporting entrepreneurs.
X-ALT-DESC;FMTTYPE=text/html:Presented by:&nbsp\;<span style="font-family:tahoma\,sans-serif"><span style="font-size:12.0pt">Catherine Morgan\, Transition and Entrepreneur Coach</span><br />\n&nbsp\;&nbsp\;&nbsp\;&nbsp\; &nbsp\;&nbsp\;&nbsp\;&nbsp\; Have you been put in a position where you <em>have</em> to make a change because you were laid off?&nbsp\; Forced transitions are difficult and it is easy to feel stuck or overwhelmed.&nbsp\;But transition can be a chance to evaluate and to focus on new beginnings. Learn how you can re-frame transition\, discover what the new normal is\, discuss the roller coaster of a job search\, and hear how to make your transition easier.&nbsp\;Come away with some &ldquo\;quick hits&rdquo\; to build confidence\, accountability and momentum. This program includes tips to create the right mindset for success\, and actionable techniques that you can immediately use in your search.&nbsp\; </span><br />\n<span style="font-family:tahoma\,sans-serif">&nbsp\;&nbsp\;&nbsp\;&nbsp\; &nbsp\;&nbsp\;&nbsp\;&nbsp\; Catherine Morgan is a transition and entrepreneur coach. She has been coaching clients and colleagues through job and life transitions for more than 15 years. Her company\, Point A to Point B Transitions Inc.\, is a virtual provider of coaching services to individuals who are in job transition or are looking to establish or grow their own successful services businesses. Ms. Morgan graduated from Vassar College with a Bachelor of Arts in Psychology. She is also writes blogs for various local media and sites supporting entrepreneurs. </span><br />\n&nbsp\;
LOCATION:Career Resource Center Grove Cultural Campus 40 E. Old Mill Road Lake Forest\, IL 60045
UID:e.1126.17634
SEQUENCE:3
DTSTAMP:20260424T100622Z
URL:https://business.lflbchamber.com/events/details/re-launch-you-liftoff-after-layoff-03-20-2019-17634
END:VEVENT

END:VCALENDAR
