BEGIN:VCALENDAR
VERSION:2.0
PRODID:-//ChamberMaster//Event Calendar 2.0//EN
METHOD:PUBLISH
X-PUBLISHED-TTL:P3D
REFRESH-INTERVAL:P3D
CALSCALE:GREGORIAN
BEGIN:VEVENT
DTSTART:20250630T190000Z
DTEND:20250630T210000Z
X-MICROSOFT-CDO-ALLDAYEVENT:FALSE
SUMMARY:Reader's Theater for Grades 4–6
DESCRIPTION:Register and join us in person to exercise our reading fluency and bring a favorite children's book to life. We'll read the story together\, pick what characters we want to be\, practice the script with lots of gestures\, facial expressions\, and voices\, then maybe even do a special performance!
X-ALT-DESC;FMTTYPE=text/html:<span style="font-family:gotham\,sans-serif\; font-size:14px">Register and join us in person to exercise our reading fluency and bring a favorite children&#39\;s book to life. We&#39\;ll read the story together\, pick what characters we want to be\, practice the script with lots of gestures\, facial expressions\, and voices\, then maybe even do a special performance!</span>
LOCATION:Lake Forest Library 360 E Deerpath Rd Lake Forest IL 60045
UID:e.1126.31397
SEQUENCE:3
DTSTAMP:20260424T080602Z
URL:https://business.lflbchamber.com/events/details/reader-s-theater-for-grades-4-6-31397
END:VEVENT

END:VCALENDAR
