BEGIN:VCALENDAR
VERSION:2.0
PRODID:-//ChamberMaster//Event Calendar 2.0//EN
METHOD:PUBLISH
X-PUBLISHED-TTL:P3D
REFRESH-INTERVAL:P3D
CALSCALE:GREGORIAN
BEGIN:VEVENT
DTSTART:20250507T230000Z
DTEND:20250508T023000Z
X-MICROSOFT-CDO-ALLDAYEVENT:FALSE
SUMMARY:Reading Power Game Night: Play for Literacy
DESCRIPTION:Game Night!\n\nPlay for Literacy to support Reading Power.\n\nCash Bar Available.\n\nreadingpowerinc.org/events
X-ALT-DESC;FMTTYPE=text/html:Game Night!<br />\nPlay for Literacy to support Reading Power.<br />\nCash Bar Available.<br />\nreadingpowerinc.org/events
LOCATION:Ravinia Green Country Club Riverwoods\, IL
UID:e.1126.30368
SEQUENCE:3
DTSTAMP:20260424T053306Z
URL:https://business.lflbchamber.com/events/details/reading-power-game-night-play-for-literacy-30368
END:VEVENT

END:VCALENDAR
