BEGIN:VCALENDAR
VERSION:2.0
PRODID:-//ChamberMaster//Event Calendar 2.0//EN
METHOD:PUBLISH
X-PUBLISHED-TTL:P3D
REFRESH-INTERVAL:P3D
CALSCALE:GREGORIAN
BEGIN:VEVENT
DTSTART:20220909T160000Z
DTEND:20220909T180000Z
X-MICROSOFT-CDO-ALLDAYEVENT:FALSE
SUMMARY:Ready ...Set... Go! In-Person Ticket Sales Tues.8-9
DESCRIPTION:In-Person Ticket Sales Tues 8-9.  Don't put off making your reservation for the Lake Bluff Women's Club Fall Benefit "Caring and Sharing" being held on October 18th at White Deer Run Golf Club in Vernon Hills. Make plans with your friends to attend our biggest fundraising event of the year. Choose an entr e and table partners when you make your reservation.  PLACE TO PURCHASE: Lobby of Grace United Methodist Church 244 E. Central Ave.\, Lake Bluff from 11:00am - 1:00pm.  Ticket price $70  Option:  Purchase tickets by mail payable to: LBWC\n\nMailing Address: LBWC c/o Kathy Sheppard\, 126 E. Sheridan Rd. / Lake Bluff\, IL. 60044                                      Unable to join us?  Donations would be deeply appreciated.
X-ALT-DESC;FMTTYPE=text/html:<p>In-Person Ticket Sales Tues 8-9. &nbsp\;Don&#39\;t put off making your reservation for the <strong>Lake Bluff Women&#39\;s Club Fall Benefit </strong><em>&quot\;Caring and Sharing&quot\;</em> being held on October 18th at White Deer Run Golf Club in Vernon Hills. Make plans with your friends to attend our biggest fundraising event of the year. Choose an entr&eacute\;e and table partners when you make your reservation. <u><strong>&nbsp\;PLACE TO PURCHASE</strong></u><strong>: </strong>Lobby of Grace United Methodist Church 244 E. Central Ave.\, Lake Bluff from 11:00am - 1:00pm. &nbsp\;<strong>Ticket price $70</strong>&nbsp\; Option: &nbsp\;Purchase tickets by mail&nbsp\;payable to:&nbsp\;LBWC<br />\n<em>Mailing Address:&nbsp\;LBWC c/o Kathy Sheppard\, 126 E. Sheridan Rd. / Lake Bluff\, IL. 60044 &nbsp\; &nbsp\; &nbsp\; &nbsp\; &nbsp\; &nbsp\; &nbsp\; &nbsp\; &nbsp\; &nbsp\; &nbsp\; &nbsp\; &nbsp\; &nbsp\; &nbsp\; &nbsp\; &nbsp\; &nbsp\; &nbsp\;Unable to join us?</em>&nbsp\; Donations would be deeply appreciated.</p>\n
LOCATION:Ticket Sales in-person Tuesday\, August 9\, 2022 11am to 1 pm at Grace United Methodist Church\, 244 E. Central Ave.\, Lake Bluff\, IL $70/pp. Select your entr e and seating arrangements with your friends.
UID:e.1126.22334
SEQUENCE:3
DTSTAMP:20260426T041101Z
URL:https://business.lflbchamber.com/events/details/ready-set-go-in-person-ticket-sales-tues-8-9-09-09-2022-22334
END:VEVENT

END:VCALENDAR
