BEGIN:VCALENDAR
VERSION:2.0
PRODID:-//ChamberMaster//Event Calendar 2.0//EN
METHOD:PUBLISH
X-PUBLISHED-TTL:P3D
REFRESH-INTERVAL:P3D
CALSCALE:GREGORIAN
BEGIN:VEVENT
DTSTART:20250421T233000Z
DTEND:20250422T010000Z
X-MICROSOFT-CDO-ALLDAYEVENT:FALSE
SUMMARY:Red Flags! Identifying and Addressing Business Distress Early
DESCRIPTION:One in four new businesses fail in their first year of operation ( per the US Department of Labor)! Less than one in three small businesses reach the tenth year of operation\, and only half can claim they have operated for five years. That is a stark reality.\n\n						 \n\n						Most entrepreneurs do not realize that their business is heading towards trouble until it is too late. At that stage\, they may require a significant new investment of capital to turn them around\, which may not be available or they have to file for bankruptcy.\n\n						 \n\n						At this Workshop\, we will make you aware of the red flags you will encounter during your entrepreneurial journey\, both financial and non-financial - when trouble is starting to brew. You will have an opportunity to learn how to spot trouble\, how to determine where to focus\, and then develop strategies to take appropriate action\, so that your business is on a path to success not failure!\n						\n					\n				\n			\n			\n		\n	\n\n\n\n	\n		\n			\n			\n				\n					\n						\n						Sponsored by the Addison Public Library\n\n						Meet Your Speaker ~ Rajeev Jain\n\n						 \n\n						The Facilitator for this event is SCORE Member\, and Master Mentor Rajeev Jain. Rajeev specializes in finance and business planning. His experience spans manufacturing and service industries\, and he has worked at all levels of management including CFO.\n\n						He spent a decade of his 45 year professional career turning around troubled businesses both large and small. He has an MBA in Strategy\, is a CPA\, and is a Fellow Member of a number of International Professional Business Associations.
X-ALT-DESC;FMTTYPE=text/html:<table border="0" cellpadding="0" cellspacing="0" class="x_layout x_layout--1-column" style="font-variant-numeric: inherit\; font-variant-east-asian: inherit\; font-variant-alternates: inherit\; font-variant-position: inherit\; font-variant-emoji: inherit\; font-stretch: inherit\; font-size: 15px\; line-height: inherit\; font-family: &quot\;Segoe UI&quot\;\, &quot\;Segoe UI Web (West European)&quot\;\, -apple-system\, BlinkMacSystemFont\, Roboto\, &quot\;Helvetica Neue&quot\;\, sans-serif\; font-optical-sizing: inherit\; font-size-adjust: inherit\; font-kerning: inherit\; font-feature-settings: inherit\; font-variation-settings: inherit\; table-layout: fixed\; min-width: 100%\; color: rgb(36\, 36\, 36)\;" width="100%">\n	<tbody>\n		<tr>\n			<td align="center" class="x_column x_column--1 x_scale x_stack" style="width: 600.014px\;" valign="top">\n			<table border="0" cellpadding="0" cellspacing="0" class="x_text x_text--padding-vertical" style="font: inherit\; table-layout: fixed\;" width="100%">\n				<tbody>\n					<tr>\n						<td align="left" class="x_text_content-cell x_content-padding-horizontal" style="font-family: Lato\, sans-serif\; font-size: 16px\; line-height: 1.2\; display: block\; overflow-wrap: break-word\; padding: 10px 20px\; color: rgb(40\, 40\, 41) !important\;" valign="top">\n						<p style="margin: 0px\; padding: 0px\;"><span data-olk-copy-source="MessageBody" style="border: 0px\; font-style: inherit\; font-variant: inherit\; font-weight: inherit\; font-stretch: inherit\; font-size: 18px\; line-height: inherit\; font-family: inherit\; font-optical-sizing: inherit\; font-size-adjust: inherit\; font-kerning: inherit\; font-feature-settings: inherit\; font-variation-settings: inherit\; margin: 0px\; padding: 0px\; vertical-align: baseline\; color: inherit\;">One in four new businesses fail in their first year of operation ( per the US Department of Labor)! Less than one in three small businesses reach the tenth year of operation\, and only half can claim they have operated for five years. That is a stark reality.</span></p>\n\n						<p style="margin: 0px\; padding: 0px\;"><span style="border: 0px\; font-style: inherit\; font-variant: inherit\; font-weight: inherit\; font-stretch: inherit\; font-size: 18px\; line-height: inherit\; font-family: inherit\; font-optical-sizing: inherit\; font-size-adjust: inherit\; font-kerning: inherit\; font-feature-settings: inherit\; font-variation-settings: inherit\; margin: 0px\; padding: 0px\; vertical-align: baseline\; color: inherit\;">&nbsp\;</span></p>\n\n						<p style="margin: 0px\; padding: 0px\;"><span style="border: 0px\; font-style: inherit\; font-variant: inherit\; font-weight: inherit\; font-stretch: inherit\; font-size: 18px\; line-height: inherit\; font-family: inherit\; font-optical-sizing: inherit\; font-size-adjust: inherit\; font-kerning: inherit\; font-feature-settings: inherit\; font-variation-settings: inherit\; margin: 0px\; padding: 0px\; vertical-align: baseline\; color: inherit\;">Most entrepreneurs do not realize that their business is heading towards trouble until it is too late. At that stage\, they may require a significant new investment of capital to turn them around\, which may not be available or they have to file for bankruptcy.</span></p>\n\n						<p style="margin: 0px\; padding: 0px\;"><span style="border: 0px\; font-style: inherit\; font-variant: inherit\; font-weight: inherit\; font-stretch: inherit\; font-size: 18px\; line-height: inherit\; font-family: inherit\; font-optical-sizing: inherit\; font-size-adjust: inherit\; font-kerning: inherit\; font-feature-settings: inherit\; font-variation-settings: inherit\; margin: 0px\; padding: 0px\; vertical-align: baseline\; color: inherit\;">&nbsp\;</span></p>\n\n						<p style="margin: 0px\; padding: 0px\;"><span style="border: 0px\; font-style: inherit\; font-variant: inherit\; font-weight: inherit\; font-stretch: inherit\; font-size: 18px\; line-height: inherit\; font-family: inherit\; font-optical-sizing: inherit\; font-size-adjust: inherit\; font-kerning: inherit\; font-feature-settings: inherit\; font-variation-settings: inherit\; margin: 0px\; padding: 0px\; vertical-align: baseline\; color: inherit\;">At this Workshop\, we will make you aware of the red flags you will encounter during your entrepreneurial journey\, both financial and non-financial - when trouble is starting to brew. You will have an opportunity to learn how to spot trouble\, how to determine where to focus\, and then develop strategies to take appropriate action\, so that your business is on a path to success not failure!</span></p>\n						</td>\n					</tr>\n				</tbody>\n			</table>\n			</td>\n		</tr>\n	</tbody>\n</table>\n\n<table border="0" cellpadding="0" cellspacing="0" class="x_layout x_layout--1-column" style="font-variant-numeric: inherit\; font-variant-east-asian: inherit\; font-variant-alternates: inherit\; font-variant-position: inherit\; font-variant-emoji: inherit\; font-stretch: inherit\; font-size: 15px\; line-height: inherit\; font-family: &quot\;Segoe UI&quot\;\, &quot\;Segoe UI Web (West European)&quot\;\, -apple-system\, BlinkMacSystemFont\, Roboto\, &quot\;Helvetica Neue&quot\;\, sans-serif\; font-optical-sizing: inherit\; font-size-adjust: inherit\; font-kerning: inherit\; font-feature-settings: inherit\; font-variation-settings: inherit\; table-layout: fixed\; min-width: 100%\; color: rgb(36\, 36\, 36)\;" width="100%">\n	<tbody>\n		<tr>\n			<td align="center" class="x_column x_column--1 x_scale x_stack" style="width: 600.014px\;" valign="top">\n			<table border="0" cellpadding="0" cellspacing="0" class="x_text x_text--padding-vertical" style="font: inherit\; table-layout: fixed\;" width="100%">\n				<tbody>\n					<tr>\n						<td align="left" class="x_text_content-cell x_content-padding-horizontal" style="line-height: 1.5\; font-family: Lato\, sans-serif\; font-size: 16px\; display: block\; overflow-wrap: break-word\; padding: 10px 20px\; color: rgb(40\, 40\, 41) !important\;" valign="top">\n						<p align="center" style="margin: 0px\; padding: 0px\; text-align: center\;"><span style="border: 0px\; font-style: inherit\; font-variant: inherit\; font-weight: inherit\; font-stretch: inherit\; font-size: inherit\; line-height: inherit\; font-family: Arial\, Verdana\, Helvetica\, sans-serif\; font-optical-sizing: inherit\; font-size-adjust: inherit\; font-kerning: inherit\; font-feature-settings: inherit\; font-variation-settings: inherit\; margin: 0px\; padding: 0px\; vertical-align: baseline\; color: inherit\;">Sponsored by the Addison Public Library</span><br />\n						<span data-olk-copy-source="MessageBody" style="border: 0px\; font-variant-numeric: inherit\; font-variant-east-asian: inherit\; font-variant-alternates: inherit\; font-variant-position: inherit\; font-variant-emoji: inherit\; font-stretch: inherit\; font-size: 23px\; line-height: inherit\; font-family: Arial\, Verdana\, Helvetica\, sans-serif\; font-optical-sizing: inherit\; font-size-adjust: inherit\; font-kerning: inherit\; font-feature-settings: inherit\; font-variation-settings: inherit\; margin: 0px\; padding: 0px\; vertical-align: baseline\; text-align: center\; background-color: rgb(0\, 110\, 183)\; color: rgb(255\, 255\, 255) !important\;">Meet Your Speaker ~&nbsp\;</span><span style="border: 0px\; font-variant-numeric: inherit\; font-variant-east-asian: inherit\; font-variant-alternates: inherit\; font-variant-position: inherit\; font-variant-emoji: inherit\; font-stretch: inherit\; font-size: 22px\; line-height: inherit\; font-family: Arial\, Verdana\, Helvetica\, sans-serif\; font-optical-sizing: inherit\; font-size-adjust: inherit\; font-kerning: inherit\; font-feature-settings: inherit\; font-variation-settings: inherit\; margin: 0px\; padding: 0px\; vertical-align: baseline\; text-align: center\; background-color: rgb(0\, 110\, 183)\; color: rgb(255\, 255\, 255) !important\;">Rajeev Jain</span><br />\n						&nbsp\;</p>\n\n						<p data-olk-copy-source="MessageBody" style="margin: 0px\; padding: 0px\; color: rgb(40\, 40\, 41)\; font-family: Lato\, sans-serif\; font-size: 16px\;">The Facilitator for this event is SCORE Member\, and Master Mentor Rajeev Jain. Rajeev specializes in finance and business planning. His experience spans manufacturing and service industries\, and he has worked at all levels of management including CFO.</p>\n\n						<p style="margin: 0px\; padding: 0px\; color: rgb(40\, 40\, 41)\; font-family: Lato\, sans-serif\; font-size: 16px\;">He spent a decade of his 45 year professional career turning around troubled businesses both large and small. He has an MBA in Strategy\, is a CPA\, and is a Fellow Member of a number of International Professional Business Associations.</p>\n						</td>\n					</tr>\n				</tbody>\n			</table>\n			</td>\n		</tr>\n	</tbody>\n</table>\n
LOCATION:Zoom
UID:e.1126.30702
SEQUENCE:3
DTSTAMP:20260424T023528Z
URL:https://business.lflbchamber.com/events/details/red-flags-identifying-and-addressing-business-distress-early-30702
END:VEVENT

END:VCALENDAR
