BEGIN:VCALENDAR
VERSION:2.0
PRODID:-//ChamberMaster//Event Calendar 2.0//EN
METHOD:PUBLISH
X-PUBLISHED-TTL:P3D
REFRESH-INTERVAL:P3D
CALSCALE:GREGORIAN
BEGIN:VEVENT
DTSTART:20220914T000000Z
DTEND:20220914T020000Z
X-MICROSOFT-CDO-ALLDAYEVENT:FALSE
SUMMARY:Reducing the Plague of Gun Violence Here\, There\, Everywhere
DESCRIPTION:League of Women Voters is holding a virtual panel discussion by 3 experts about "Reducing the Plague of Gun Violence Here\, There\, Everywhere". The speakers are Jose Santos Woss\, Director of Friends Committee on National Legislation\; Kris Brown\, President of Brady\; and Eric Rinehart\, Lake County State's Attorney. Registration required: tinyurl.com/gv913 Confirmation will have the link. Speakers will share their experiences and address how an individual can work with public officials to reduce the plague of gun violence.
X-ALT-DESC;FMTTYPE=text/html:League of Women Voters is holding a virtual panel discussion by 3 experts about &quot\;Reducing the Plague of Gun Violence Here\, There\, Everywhere&quot\;. The speakers are Jose Santos Woss\, Director of Friends Committee on National Legislation\; Kris Brown\, President of Brady\; and Eric Rinehart\, Lake County State&#39\;s Attorney. Registration required: tinyurl.com/gv913 Confirmation will have the link. Speakers will share their experiences and address how an individual can work with public officials to reduce the plague of gun violence.
LOCATION:virtual on zoom webinar
UID:e.1126.22612
SEQUENCE:3
DTSTAMP:20260426T041054Z
URL:https://business.lflbchamber.com/events/details/reducing-the-plague-of-gun-violence-here-there-everywhere-22612
END:VEVENT

END:VCALENDAR
