BEGIN:VCALENDAR
VERSION:2.0
PRODID:-//ChamberMaster//Event Calendar 2.0//EN
METHOD:PUBLISH
X-PUBLISHED-TTL:P3D
REFRESH-INTERVAL:P3D
CALSCALE:GREGORIAN
BEGIN:VEVENT
DTSTART:20231201T230000Z
DTEND:20231202T000000Z
X-MICROSOFT-CDO-ALLDAYEVENT:FALSE
SUMMARY:Reindeer Hot Cocoa for Grades 5–12
DESCRIPTION:Drop in and make adorable reindeer hot cocoa bundles to enjoy yourself or give as gifts!
X-ALT-DESC;FMTTYPE=text/html:<span style="font-family:gotham\,sans-serif\; font-size:14px">Drop in and make adorable reindeer hot cocoa bundles to enjoy yourself or give as gifts!</span>
LOCATION:Lake Forest Library 360 E. Deerpath Rd. Lake Forest\, IL 60045
UID:e.1126.25607
SEQUENCE:3
DTSTAMP:20260424T102324Z
URL:https://business.lflbchamber.com/events/details/reindeer-hot-cocoa-for-grades-5-12-25607
END:VEVENT

END:VCALENDAR
