BEGIN:VCALENDAR
VERSION:2.0
PRODID:-//ChamberMaster//Event Calendar 2.0//EN
METHOD:PUBLISH
X-PUBLISHED-TTL:P3D
REFRESH-INTERVAL:P3D
CALSCALE:GREGORIAN
BEGIN:VEVENT
DTSTART:20260526T150000Z
DTEND:20260526T170000Z
X-MICROSOFT-CDO-ALLDAYEVENT:FALSE
SUMMARY:Removal of flags from veteran's graves
DESCRIPTION:As our Memorial day comes to a close please come out to Ft. Sheridan National Cemetery and help remove the flags from the veteran's graves.
X-ALT-DESC;FMTTYPE=text/html:As our Memorial day comes to a close please come out to Ft. Sheridan National Cemetery and help remove the flags from the veteran&#39\;s graves.
LOCATION:Ft. Sheridan National Cemetery
UID:e.1126.34020
SEQUENCE:3
DTSTAMP:20260424T235427Z
URL:https://business.lflbchamber.com/events/details/removal-of-flags-from-veteran-s-graves-34020
END:VEVENT

END:VCALENDAR
