BEGIN:VCALENDAR
VERSION:2.0
PRODID:-//ChamberMaster//Event Calendar 2.0//EN
METHOD:PUBLISH
X-PUBLISHED-TTL:P3D
REFRESH-INTERVAL:P3D
CALSCALE:GREGORIAN
BEGIN:VEVENT
DTSTART:20240120T010000Z
DTEND:20240120T024500Z
X-MICROSOFT-CDO-ALLDAYEVENT:FALSE
SUMMARY:Rendezvous Arts Presents Christian Dillingham\, Leonard Simpson\, Dave Miller\, Greg Autry & Fiber artist Pat Kroth
DESCRIPTION:We'll start 2024 off with Grammy Award Winning Jazz Bassist Christian Dillingham and his quartet which includes Leonard Simpson: saxes\, Dave Miller: guitar and Greg Autry: drums. They will be performing pieces written by Christian for his new album CASCADES. This recording has been getting amazing reviews in all major jazz forums - and you will get the chance to hear it live!!! Fiber artist Pat Kroth will be there - you'll love her high energy personality- and her art matches that vibe!
X-ALT-DESC;FMTTYPE=text/html:We&rsquo\;ll start 2024 off with Grammy Award Winning Jazz Bassist Christian Dillingham and his quartet which includes Leonard Simpson: saxes\, Dave Miller: guitar and Greg Autry: drums. They will be performing pieces written by Christian for his new album CASCADES. This recording has been getting amazing reviews in all major jazz forums - and you will get the chance to hear it live!!! Fiber artist Pat Kroth will be there - you&rsquo\;ll love her high energy personality- and her art matches that vibe!
LOCATION:Gorton Center
UID:e.1126.26166
SEQUENCE:3
DTSTAMP:20260424T084242Z
URL:https://business.lflbchamber.com/events/details/rendezvous-arts-presents-christian-dillingham-leonard-simpson-dave-miller-greg-autry-fiber-artist-pat-kroth-26166
END:VEVENT

END:VCALENDAR
