BEGIN:VCALENDAR
VERSION:2.0
PRODID:-//ChamberMaster//Event Calendar 2.0//EN
METHOD:PUBLISH
X-PUBLISHED-TTL:P3D
REFRESH-INTERVAL:P3D
CALSCALE:GREGORIAN
BEGIN:VEVENT
DTSTART:20190310T150000Z
DTEND:20190310T210000Z
X-MICROSOFT-CDO-ALLDAYEVENT:FALSE
SUMMARY:Reptile Rampage 2019
DESCRIPTION:Bring your friends and family and join us for one of Chicagoland's largest reptile exhibitions. Enthusiasts and experts from around the region will exhibit more than 150 snakes\, lizards\, turtles\, tortoises and more. Visitors will have opportunities to meet\, handle\, and learn about many of these animals with representatives from museums\, universities\, zoos\, nature centers and private collections. Children will be able to engage in many activities\, including face-painting. Don't forget our amazing photo booth featuring the WDC menagerie! Featured exhibitors include the Wildlife Discovery Center who is hosting this event\, Crosstown Exotics\, the Chicago Herpetological Society\, Friends of Scales Reptile Rescue\, Coal Black Exotics\, The Field Museum\, the Madison Herpetological Society\, the Peggy Notebaert Nature Museum and the Grove Nature Center. Reptile Rampage is the Wildlife Discovery Center's annual spring fundraiser. Proceeds help support the work of the WDC\, including the care of its animals\, wildlife and environmental educational programming. The entrance fee is a $10 donation per person at the door. Children age 3 and under are free. The Wildlife Discovery Center is a living museum and biological station at historic Elawa Farm\, situated alongside the Middlefork Savanna\, a 670-acre wildlife habitat in Lake Forest. Visit: www.wildlifediscoverycenter.org for more information and to learn about our programs\, classes and more.
X-ALT-DESC;FMTTYPE=text/html:Bring your friends and family and join us for one of Chicagoland&rsquo\;s largest reptile exhibitions. Enthusiasts and experts from around the region will exhibit more than 150 snakes\, lizards\, turtles\, tortoises and more. Visitors will have opportunities to meet\, handle\, and learn about many of these animals with representatives from museums\, universities\, zoos\, nature centers and private collections. Children will be able to engage in many activities\, including face-painting. Don&rsquo\;t forget our amazing photo booth featuring the WDC menagerie! Featured exhibitors include the Wildlife Discovery Center who is hosting this event\, Crosstown Exotics\, the Chicago Herpetological Society\, Friends of Scales Reptile Rescue\, Coal Black Exotics\, The Field Museum\, the Madison Herpetological Society\, the Peggy Notebaert Nature Museum and the Grove Nature Center. Reptile Rampage is the Wildlife Discovery Center&rsquo\;s annual spring fundraiser. Proceeds help support the work of the WDC\, including the care of its animals\, wildlife and environmental educational programming. The entrance fee is a $10 donation per person at the door. Children age 3 and under are free. The Wildlife Discovery Center is a living museum and biological station at historic Elawa Farm\, situated alongside the Middlefork Savanna\, a 670-acre wildlife habitat in Lake Forest. Visit: www.wildlifediscoverycenter.org for more information and to learn about our programs\, classes and more.
LOCATION:400 Hastings Rd.
UID:e.1126.17529
SEQUENCE:3
DTSTAMP:20260424T113612Z
URL:https://business.lflbchamber.com/events/details/reptile-rampage-2019-17529
END:VEVENT

END:VCALENDAR
