BEGIN:VCALENDAR
VERSION:2.0
PRODID:-//ChamberMaster//Event Calendar 2.0//EN
METHOD:PUBLISH
X-PUBLISHED-TTL:P3D
REFRESH-INTERVAL:P3D
CALSCALE:GREGORIAN
BEGIN:VEVENT
DTSTART:20240801T200000Z
DTEND:20240801T230000Z
X-MICROSOFT-CDO-ALLDAYEVENT:FALSE
SUMMARY:Ribbon Cutting at Lake Bluff Dental Care
DESCRIPTION:Please join us to celebrate a ribbon cutting/1 year anniversary party with refreshments at Lake Bluff Dental Care with Dr. Linda Renella Salmon. All are welcome. Please RSVP.\n\n\n\nPlease stay and enjoy appetizers and drinks for a happy hour from 3-6pm.
X-ALT-DESC;FMTTYPE=text/html:<span style="font-family:arial\;"><span style="font-size:14px\;"><span style="color:#696969\;">Please join us to celebrate a ribbon cutting/1 year anniversary party with refreshments at Lake Bluff Dental Care with Dr. Linda Renella Salmon. All are welcome. Please RSVP.<br />\n<br />\nPlease stay and enjoy appetizers and drinks for a happy hour from 3-6pm.</span></span></span>
LOCATION:32 East Scranton Avenue Lake Bluff\, IL
UID:e.1126.27582
SEQUENCE:3
DTSTAMP:20260423T130830Z
URL:https://business.lflbchamber.com/events/details/ribbon-cutting-at-lake-bluff-dental-care-27582
END:VEVENT

END:VCALENDAR
