BEGIN:VCALENDAR
VERSION:2.0
PRODID:-//ChamberMaster//Event Calendar 2.0//EN
METHOD:PUBLISH
X-PUBLISHED-TTL:P3D
REFRESH-INTERVAL:P3D
CALSCALE:GREGORIAN
BEGIN:VEVENT
DTSTART:20231213T190000Z
DTEND:20231213T200000Z
X-MICROSOFT-CDO-ALLDAYEVENT:FALSE
SUMMARY:Ribbon Cutting & Grand Opening Celebration: Alesia C. Fashion House
DESCRIPTION:Join us for a ribbon cutting and grand opening celebration of Alesia C. Fashion House!\n\n \n\nWednesday\, December 13 | 1:00 pm\n\n\n\nAlesia C. Fashion House\n\n207 E. Westminster\, Unit 2\, Lake Forest\n\n\n\nNetwork with friends old and new and join us as we celebrate the grand opening of Alesia C. Fashion House in Lake Forest. Meet Alesia and view her special collections including artwork\, 100% silk scarves and dresses inspired by her artwork\, luxury outerwear\, headwear and accessories\, couture overcoats\, custom designed wedding and evening gowns and more.  This event is complimentary and guests are welcome. Tea\, coffee and light bites will be served.  Kindly register in advance.
X-ALT-DESC;FMTTYPE=text/html:<div style="text-align: center\;"><strong><em><span style="color:#5E923D\;"><span style="font-family:arial\,sans-serif\;"><span style="font-size:20.0pt\;">Join us for a ribbon cutting and grand opening celebration of Alesia C. Fashion House!</span></span></span></em></strong><br />\n&nbsp\;<br />\n<strong><span style="color:#333333\;"><span style="font-family:arial\,sans-serif\;"><span style="font-size:16.0pt\;">Wednesday\, December 13 | 1:00 pm</span></span></span></strong><br />\n<br />\n<font size="3">Alesia C. Fashion House</font><br />\n<font size="3">207 E. Westminster\, Unit 2\, Lake Forest</font><br />\n<br />\n<span style="border: 1pt windowtext\; padding: 0in\;"><font face="arial\, sans-serif"><font size="3">Network with friends old and new and join us as we&nbsp\;celebrate the grand opening of Alesia C. Fashion House in Lake Forest. Meet Alesia and view her special collections including artwork\, 100% silk scarves and dresses inspired by her artwork\, luxury outerwear\, headwear and accessories\, couture overcoats\, custom designed wedding and evening gowns and more. &nbsp\;This event is complimentary and guests are welcome. Tea\, coffee and&nbsp\;light bites will be served. &nbsp\;Kindly register in advance.</font></font></span></div>\n
LOCATION:Alesia C. Fashion House 207 E. Westminster\, Store Unit 2 Lake Forest\, Il 60045
UID:e.1126.26137
SEQUENCE:3
DTSTAMP:20260424T101258Z
URL:https://business.lflbchamber.com/events/details/ribbon-cutting-grand-opening-celebration-alesia-c-fashion-house-26137
END:VEVENT

END:VCALENDAR
