BEGIN:VCALENDAR
VERSION:2.0
PRODID:-//ChamberMaster//Event Calendar 2.0//EN
METHOD:PUBLISH
X-PUBLISHED-TTL:P3D
REFRESH-INTERVAL:P3D
CALSCALE:GREGORIAN
BEGIN:VEVENT
DTSTART:20190813T230000Z
DTEND:20190814T003000Z
X-MICROSOFT-CDO-ALLDAYEVENT:FALSE
SUMMARY:Root Beer Float Summer Social!
DESCRIPTION:Join CRC Members\, Volunteers\, Staff and friends as we celebrate summer with networking and ROOT BEER FLOATS! \n\n\n\nThis is an opportunity to meet and connect with individuals from different industries and disciplines. Those new to CRC are invited to take tours and learn about CRC services and volunteer opportunities. \n\n\n\nSo bring a friend\, have a float and make connections! This event will be held outdoors in the CRC yard and patio if the weather permits. \n\n\n\nFREE EVENT OPEN TO THE PUBLIC
X-ALT-DESC;FMTTYPE=text/html:<span style="font-family:tahoma\,sans-serif">Join CRC Members\, Volunteers\, Staff and friends as we celebrate summer with networking and ROOT BEER FLOATS! </span><br />\n<br />\n<span style="font-family:tahoma\,sans-serif">This is an opportunity to meet and connect with individuals from different industries and disciplines. Those new to CRC are invited to take tours and learn about CRC services and volunteer opportunities. </span><br />\n<br />\n<span style="font-family:tahoma\,sans-serif">So bring a friend\, have a float and make connections! This event will be held outdoors in the CRC yard and patio if the weather permits.&nbsp\;<br />\n<br />\n<strong>FREE EVENT OPEN TO THE PUBLIC</strong></span><br />\n&nbsp\;
LOCATION:40 E Old Mill Road Lake Forest\, IL 60045
UID:e.1126.18120
SEQUENCE:3
DTSTAMP:20260424T025427Z
URL:https://business.lflbchamber.com/events/details/root-beer-float-summer-social-18120
END:VEVENT

END:VCALENDAR
