BEGIN:VCALENDAR
VERSION:2.0
PRODID:-//ChamberMaster//Event Calendar 2.0//EN
METHOD:PUBLISH
X-PUBLISHED-TTL:P3D
REFRESH-INTERVAL:P3D
CALSCALE:GREGORIAN
BEGIN:VEVENT
DTSTART:20210519T210000Z
DTEND:20210519T213000Z
X-MICROSOFT-CDO-ALLDAYEVENT:FALSE
SUMMARY:Rosati's Ribbon Cutting
DESCRIPTION:Join us for a delicious ribbon-cutting ceremony and warm welcome for one of our newest food businesses!  We'll be congregating at the store which is located at the corner of Deerpath and Western Avenue at 4:00 pm for the ceremony followed by the chance to taste some of Rosati's wonderful offerings.  Join us!
X-ALT-DESC;FMTTYPE=text/html:Join us for a delicious ribbon-cutting ceremony and warm welcome for one of our newest food businesses!&nbsp\; We&#39\;ll be congregating at the store which is located at the corner of Deerpath and Western Avenue at 4:00 pm for the ceremony followed by the chance to taste some of Rosati&#39\;s wonderful offerings.&nbsp\; Join us!
LOCATION:Rosati's Pizza 630 N. Western Ave.\, Lake Forest
UID:e.1126.20311
SEQUENCE:3
DTSTAMP:20260424T023309Z
URL:https://business.lflbchamber.com/events/details/rosati-s-ribbon-cutting-20311
END:VEVENT

END:VCALENDAR
