BEGIN:VCALENDAR
VERSION:2.0
PRODID:-//ChamberMaster//Event Calendar 2.0//EN
METHOD:PUBLISH
X-PUBLISHED-TTL:P3D
REFRESH-INTERVAL:P3D
CALSCALE:GREGORIAN
BEGIN:VEVENT
DTSTART:20260407T230000Z
DTEND:20260408T000000Z
X-MICROSOFT-CDO-ALLDAYEVENT:FALSE
SUMMARY:Safe Choices: Recognizing & Avoiding Scams
DESCRIPTION:Register and join John Good\, President / CEO of JG Good Corporation Security Consultants\, in person for a program designed especially for older adults. Learn about today's most common scams and fraud tactics and get clear\, practical guidance on how to protect your personal information\, recognize warning signs\, and stay safe both online and in everyday situations.
X-ALT-DESC;FMTTYPE=text/html:<span style="font-family:gotham\,sans-serif\; font-size:14px">Register and join John Good\, President / CEO of JG Good Corporation Security Consultants\, in person for a program designed especially for older adults. Learn about today&#39\;s most common scams and fraud tactics and get clear\, practical guidance on how to protect your personal information\, recognize warning signs\, and stay safe both online and in everyday situations.</span>
LOCATION:Lake Forest Library 360 E Deerpath Rd Lake Forest IL 60045
UID:e.1126.33881
SEQUENCE:3
DTSTAMP:20260425T215547Z
URL:https://business.lflbchamber.com/events/details/safe-choices-recognizing-avoiding-scams-33881
END:VEVENT

END:VCALENDAR
