BEGIN:VCALENDAR
VERSION:2.0
PRODID:-//ChamberMaster//Event Calendar 2.0//EN
METHOD:PUBLISH
X-PUBLISHED-TTL:P3D
REFRESH-INTERVAL:P3D
CALSCALE:GREGORIAN
BEGIN:VEVENT
DTSTART:20190408T141500Z
DTEND:20190506T145000Z
X-MICROSOFT-CDO-ALLDAYEVENT:FALSE
SUMMARY:Salsarobics
DESCRIPTION:Aerobics with a Latin kick! This is the ideal class to have fun while getting in shape. It combines aerobics\, dance and exercise all to a salsa beat! The workout benefits include flexibility\, conditioning and shaping-up. Uno-dos-tres ..it's a fun workout. Join Esther for a 35 minute workout to get ready for summer
X-ALT-DESC;FMTTYPE=text/html:Aerobics with a Latin kick! This is the ideal class to have fun while getting in shape. It combines aerobics\, dance and exercise all to a salsa beat! The workout benefits include flexibility\, conditioning and shaping-up. Uno-dos-tres&hellip\;..it&rsquo\;s a fun workout. Join Esther for a 35 minute workout to get ready for summer
LOCATION:Gorton Community Center 400 E. Illinois Road\, Lake Forest\, IL 60045
UID:e.1126.17676
SEQUENCE:3
DTSTAMP:20260424T071128Z
URL:https://business.lflbchamber.com/events/details/salsarobics-17676
END:VEVENT

END:VCALENDAR
