BEGIN:VCALENDAR
VERSION:2.0
PRODID:-//ChamberMaster//Event Calendar 2.0//EN
METHOD:PUBLISH
X-PUBLISHED-TTL:P3D
REFRESH-INTERVAL:P3D
CALSCALE:GREGORIAN
BEGIN:VEVENT
DTSTART:20200309T233000Z
DTEND:20200312T013000Z
X-MICROSOFT-CDO-ALLDAYEVENT:FALSE
SUMMARY:SAT & ACT Power Classes With Nancy Morehouse
DESCRIPTION:SAT Power Classes are 2-hour\, no-nonsense classes that focus specifically on a different section of the test. In just 2 hours we'll present strategies and content essential for students who want to raise their scores. High School.
X-ALT-DESC;FMTTYPE=text/html:SAT Power Classes are 2-hour\, no-nonsense classes that focus specifically on a different section of the test. In just 2 hours we&rsquo\;ll present strategies and content essential for students who want to raise their scores. High School.
LOCATION:Gorton Community Center
UID:e.1126.19105
SEQUENCE:3
DTSTAMP:20260420T121618Z
URL:https://business.lflbchamber.com/events/details/sat-act-power-classes-with-nancy-morehouse-19105
END:VEVENT

END:VCALENDAR
