BEGIN:VCALENDAR
VERSION:2.0
PRODID:-//ChamberMaster//Event Calendar 2.0//EN
METHOD:PUBLISH
X-PUBLISHED-TTL:P3D
REFRESH-INTERVAL:P3D
CALSCALE:GREGORIAN
BEGIN:VEVENT
DTSTART:20190413T160000Z
DTEND:20190831T050000Z
X-MICROSOFT-CDO-ALLDAYEVENT:FALSE
SUMMARY:Saturday Tai Chi with Ken Ning
DESCRIPTION:Ken has been practicing martial arts for 27 years\, and I started Tai Chi training in 1996 with Sifu Dale Washington\, Sifu Ban Toy in 2000 and Grand Master Yang Jun in 2006. He has been practicing Tai Chi for 21 years and teaching Tai Chi for 12 years. In 2016\, he received a Gold Eagle certificate from Yang Family Tai Chi Chuan Association. certificate. Ken is also one of Grand Master Yang Jun's Disciples for the Yang Family Tai Chi Chuan. He teaches Kickboxing and Full-contact Martial Arts teacher and is certified by Ng Family Martial Arts Association.
X-ALT-DESC;FMTTYPE=text/html:Ken has been practicing martial arts for 27 years\, and I started Tai Chi training in 1996 with Sifu Dale Washington\, Sifu Ban Toy in 2000 and Grand Master Yang Jun in 2006. He has been practicing Tai Chi for 21 years and teaching Tai Chi for 12 years. In 2016\, he received a Gold Eagle certificate from Yang Family Tai Chi Chuan Association. certificate. Ken is also one of Grand Master Yang Jun&rsquo\;s Disciples for the Yang Family Tai Chi Chuan. He teaches Kickboxing and Full-contact Martial Arts teacher and is certified by Ng Family Martial Arts Association.
LOCATION:Gorton Community Center 400 E. Illinois Road\, Lake Forest\, IL 60045
UID:e.1126.17692
SEQUENCE:3
DTSTAMP:20260424T025916Z
URL:https://business.lflbchamber.com/events/details/saturday-tai-chi-with-ken-ning-17692
END:VEVENT

END:VCALENDAR
