BEGIN:VCALENDAR
VERSION:2.0
PRODID:-//ChamberMaster//Event Calendar 2.0//EN
METHOD:PUBLISH
X-PUBLISHED-TTL:P3D
REFRESH-INTERVAL:P3D
CALSCALE:GREGORIAN
BEGIN:VEVENT
DTSTART:20190313T193000Z
DTEND:20190313T211500Z
X-MICROSOFT-CDO-ALLDAYEVENT:FALSE
SUMMARY:School's Out Early! Catch a movie at the Library
DESCRIPTION:Join us on LBES/LBMS early release days for an afternoon movie and popcorn. Wednesday\, 3/13 at 2:30pm The LEGO Ninjago Movie (2017\, PG\, 1 hr 41 mins)
X-ALT-DESC;FMTTYPE=text/html:Join us on LBES/LBMS early release days for an afternoon movie and popcorn. Wednesday\, 3/13 at 2:30pm The LEGO Ninjago Movie (2017\, PG\, 1 hr 41 mins)
LOCATION:Lake Bluff Public Library 123 E Scranton Ave.\, Lake Bluff\, IL 60044
UID:e.1126.17616
SEQUENCE:3
DTSTAMP:20260424T101013Z
URL:https://business.lflbchamber.com/events/details/school-s-out-early-catch-a-movie-at-the-library-03-13-2019-17616
END:VEVENT

END:VCALENDAR
