BEGIN:VCALENDAR
VERSION:2.0
PRODID:-//ChamberMaster//Event Calendar 2.0//EN
METHOD:PUBLISH
X-PUBLISHED-TTL:P3D
REFRESH-INTERVAL:P3D
CALSCALE:GREGORIAN
BEGIN:VEVENT
DTSTART:20250609T223000Z
DTEND:20250610T000000Z
X-MICROSOFT-CDO-ALLDAYEVENT:FALSE
SUMMARY:SCORE & Tejara Present: The Pros and Cons of Business Communication and AI
DESCRIPTION:Learn how AI can enhance small business communication while learning the risks and smart ways to adopt it responsibly.
X-ALT-DESC;FMTTYPE=text/html:<!--StartFragment--><span data-olk-copy-source="MessageBody" style="margin: 0px\;">Learn how AI can enhance small business communication while learning the risks and smart ways to adopt it responsibly.</span><!--EndFragment-->
LOCATION:Zoom
UID:e.1126.31365
SEQUENCE:3
DTSTAMP:20260424T084235Z
URL:https://business.lflbchamber.com/events/details/score-tejara-present-the-pros-and-cons-of-business-communication-and-ai-31365
END:VEVENT

END:VCALENDAR
