BEGIN:VCALENDAR
VERSION:2.0
PRODID:-//ChamberMaster//Event Calendar 2.0//EN
METHOD:PUBLISH
X-PUBLISHED-TTL:P3D
REFRESH-INTERVAL:P3D
CALSCALE:GREGORIAN
BEGIN:VEVENT
DTSTART:20250123T180000Z
DTEND:20250123T193000Z
X-MICROSOFT-CDO-ALLDAYEVENT:FALSE
SUMMARY:SCORE Women's Mastermind: Kick-off 2025 YOUR Way
DESCRIPTION:Kick-Off 2025 YOUR Way \n\n			 \n\n			Join our 2025 January Women's Mastermind\n\n			with 7 Figure Entrepreneur Amanda Wittenborn\n\n			and her update from this past year!\n\n			 \n\n			When Resolutions Don't Work for You\n\n			...Let's Find Out What DOES\n\n			 \n\n			JOIN US to make 2025 the Best Year to Date\n\n			...YOUR WAY!\n\n			 \n\n			Resolutions \n\n			can have pressure attached to them\; \n\n			to Be and Do things better for the upcoming year.\n\n			 \n\n			In this proactive Presentation\,\n\n			Let's change that up and figure out how\n\n			YOU can accomplish what you desire in 2025.\n\n			Takeaways and Habits to Implement Today!
X-ALT-DESC;FMTTYPE=text/html:<table align="center" border="0" cellpadding="0" cellspacing="0" style="width:100.0%\;" width="100%">\n	<tbody>\n		<tr>\n			<td style="padding:7.5pt 15.0pt 7.5pt 15.0pt\;vertical-align:top\;"><strong><span style="background:#006EB7\;"><span style="color:white\;"><span style="font-family:lato\,sans-serif\;"><span style="font-size:18.0pt\;">Kick-Off 2025 YOUR Way </span></span></span></span></strong><br />\n			&nbsp\;<br />\n			<strong><span style="color:black\;"><span style="font-family:arial\,sans-serif\;"><span style="font-size:15.0pt\;">Join our 2025 January Women&#39\;s Mastermind</span></span></span></strong><br />\n			<strong><span style="color:black\;"><span style="font-family:arial\,sans-serif\;"><span style="font-size:15.0pt\;">with&nbsp\;7 Figure Entrepreneur Amanda Wittenborn</span></span></span></strong><br />\n			<strong><span style="color:black\;"><span style="font-family:arial\,sans-serif\;"><span style="font-size:15.0pt\;">and her update from this past year!</span></span></span></strong><br />\n			&nbsp\;<br />\n			<strong><span style="color:#006EB7\;"><span style="font-family:arial\,sans-serif\;"><span style="font-size:15.0pt\;">When Resolutions Don&#39\;t Work for You</span></span></span></strong><br />\n			<strong><span style="color:#006EB7\;"><span style="font-family:arial\,sans-serif\;"><span style="font-size:15.0pt\;">...Let&#39\;s Find Out What DOES</span></span></span></strong><br />\n			&nbsp\;<br />\n			<strong><span style="color:#006EB7\;"><span style="font-family:arial\,sans-serif\;"><span style="font-size:15.0pt\;">JOIN US to make 2025 the Best Year to Date</span></span></span></strong><br />\n			<strong><span style="color:#006EB7\;"><span style="font-family:arial\,sans-serif\;"><span style="font-size:15.0pt\;">...YOUR WAY!</span></span></span></strong><br />\n			&nbsp\;<br />\n			<strong><span style="color:black\;"><span style="font-family:arial\,sans-serif\;"><span style="font-size:15.0pt\;">Resolutions </span></span></span></strong><br />\n			<strong><span style="color:black\;"><span style="font-family:arial\,sans-serif\;"><span style="font-size:15.0pt\;">can have pressure attached to them\; </span></span></span></strong><br />\n			<strong><span style="color:black\;"><span style="font-family:arial\,sans-serif\;"><span style="font-size:15.0pt\;">to Be and Do things better for the upcoming year.</span></span></span></strong><br />\n			&nbsp\;<br />\n			<strong><span style="color:black\;"><span style="font-family:arial\,sans-serif\;"><span style="font-size:15.0pt\;">In this proactive Presentation\,</span></span></span></strong><br />\n			<strong><span style="color:black\;"><span style="font-family:arial\,sans-serif\;"><span style="font-size:15.0pt\;">Let&#39\;s change that up and figure out how</span></span></span></strong><br />\n			<strong><span style="color:black\;"><span style="font-family:arial\,sans-serif\;"><span style="font-size:15.0pt\;">YOU can accomplish what you desire in 2025.</span></span></span></strong><br />\n			<strong><span style="color:black\;"><span style="font-family:arial\,sans-serif\;"><span style="font-size:15.0pt\;">Takeaways and Habits to Implement Today!</span></span></span></strong></td>\n		</tr>\n	</tbody>\n</table>\n\n<div style="clear:both\;">&nbsp\;</div>\n
LOCATION:Zoom
UID:e.1126.29646
SEQUENCE:3
DTSTAMP:20260423T223026Z
URL:https://business.lflbchamber.com/events/details/score-women-s-mastermind-kick-off-2025-your-way-29646
END:VEVENT

END:VCALENDAR
