BEGIN:VCALENDAR
VERSION:2.0
PRODID:-//ChamberMaster//Event Calendar 2.0//EN
METHOD:PUBLISH
X-PUBLISHED-TTL:P3D
REFRESH-INTERVAL:P3D
CALSCALE:GREGORIAN
BEGIN:VEVENT
DTSTART:20250619T233000Z
DTEND:20250620T003000Z
X-MICROSOFT-CDO-ALLDAYEVENT:FALSE
SUMMARY:Seeking Freedom: The True Story of Sara Lucy Bagby and the Fugitive Slave Act (Online Program)
DESCRIPTION:In honor of Juneteenth\, join us on Zoom for a special program celebrating Black American history. Robin Pease of Women in History will portray Sara Lucy Bagby and share the powerful story of her flight from slavery to freedom.\n\n\n\nThis is an online program. You will receive a Zoom link with your completed registration.
X-ALT-DESC;FMTTYPE=text/html:<p><span style="background-color:rgb(255\, 255\, 255)\; color:rgb(51\, 51\, 51)\; font-family:arial\,helvetica\,verdana\; font-size:14px">In honor of Juneteenth\, join us on Zoom for a special program celebrating Black American history. Robin Pease of Women in History will portray Sara Lucy Bagby and share the powerful story of her flight from slavery to freedom.<br />\n<br />\n<strong>This is an online program. You will receive a Zoom link with your completed registration.</strong></span></p>\n
LOCATION:Lake Bluff Public Library 123 E. Scranton Ave. Lake Bluff\, IL. 60044
UID:e.1126.31007
SEQUENCE:3
DTSTAMP:20260424T084241Z
URL:https://business.lflbchamber.com/events/details/seeking-freedom-the-true-story-of-sara-lucy-bagby-and-the-fugitive-slave-act-online-program-31007
END:VEVENT

END:VCALENDAR
