BEGIN:VCALENDAR
VERSION:2.0
PRODID:-//ChamberMaster//Event Calendar 2.0//EN
METHOD:PUBLISH
X-PUBLISHED-TTL:P3D
REFRESH-INTERVAL:P3D
CALSCALE:GREGORIAN
BEGIN:VEVENT
DTSTART:20250605T230000Z
DTEND:20250606T003000Z
X-MICROSOFT-CDO-ALLDAYEVENT:FALSE
SUMMARY:Sell Online with E-Commerce Tools
DESCRIPTION:Discover how to list products\, build a Shopify store and use free tools to grow your online sales and stand out digitally.
X-ALT-DESC;FMTTYPE=text/html:<!--StartFragment--><span data-olk-copy-source="MessageBody" style="margin: 0px\;">Discover how to list products\, build a Shopify store and use free tools to grow your online sales and stand out digitally.</span><!--EndFragment-->
LOCATION:Zoom
UID:e.1126.31363
SEQUENCE:3
DTSTAMP:20260424T064937Z
URL:https://business.lflbchamber.com/events/details/sell-online-with-e-commerce-tools-31363
END:VEVENT

END:VCALENDAR
