BEGIN:VCALENDAR
VERSION:2.0
PRODID:-//ChamberMaster//Event Calendar 2.0//EN
METHOD:PUBLISH
X-PUBLISHED-TTL:P3D
REFRESH-INTERVAL:P3D
CALSCALE:GREGORIAN
BEGIN:VEVENT
DTSTART:20250528T140000Z
DTEND:20250528T190000Z
X-MICROSOFT-CDO-ALLDAYEVENT:FALSE
SUMMARY:Senior Health & Fitness Day 2025! at the Northwestern Medicine Lake Forest Health and Fitness Center
DESCRIPTION:Open to the community.\n\nCelebrate Senior Health & Fitness Day with us.\n\nJoin us for a special health and fitness event for our senior community. Seniors 65 and better will have complimentary access to Northwestern Medicine Lake Forest Health & Fitness Center. Come explore our fitness center\, participate in group activities and connect with other seniors in a supportive environment. \n\n\n\nEvent Highlights\n\n  MyFitRx  specific tours and MyFitRx information table\n\n  Enter a drawing to win a COMPLIMENTARY month of membership or MyFitRx session.\n\n  Explore Medically Integrated Programming\n\n  Special group exercise classes\n\n    Chair Yoga at 9:15 am\n\n    BeMoved Dance at 10:30 am\n\n  Complimentary BodyScript  Analyzer Scans\n\n  Enjoy a 25% discount at the Fit Shop\n\n  Wellness booths staffed by our certified and degreed personal trainers\n\n  Enjoy refreshments and light snacks\n\nAbout Northwestern Medicine Lake Forest Health & Fitness Center.\n\nWe believe in the power of staying active and maintaining a healthy lifestyle at every age. At Northwestern Medicine Lake Forest Health & Fitness Center\, we understand the specific needs of active seniors. We offer a wide range of equipment\, services and programs tailored for seniors. Whether you're looking for low-impact cardio machines\, gentle group exercise classes or personalized training options\, we have something for everyone.\n\nWe look forward to seeing you on Senior Health & Fitness Day. For more information\, please visit lakeforesthfc.com/offers or call 847.535.7060.
X-ALT-DESC;FMTTYPE=text/html:<p><strong>Open to the community.</strong></p>\n\n<h3><strong>Celebrate Senior Health &amp\; Fitness Day with us.</strong></h3>\n\n<p>Join us for a special health and fitness event for our senior community. Seniors 65 and better will have complimentary access to Northwestern Medicine Lake Forest Health &amp\; Fitness Center. Come explore our fitness center\, participate in group activities and connect with other seniors in a supportive environment.&nbsp\;<br />\n<br />\n<strong>Event Highlights</strong><br />\n&bull\; MyFitRx&reg\; specific tours and MyFitRx information table<br />\n&bull\; Enter a drawing to win a COMPLIMENTARY month of membership or MyFitRx session.</p>\n\n<p>&bull\; Explore Medically Integrated Programming<br />\n&bull\; Special group exercise classes<br />\n&nbsp\;&nbsp\;&bull\; Chair Yoga at 9:15 am<br />\n&nbsp\;&nbsp\;&bull\; BeMoved Dance at 10:30 am<br />\n&bull\; Complimentary BodyScript&trade\; Analyzer Scans<br />\n&bull\; Enjoy a 25% discount at the Fit Shop<br />\n&bull\; Wellness booths staffed by our certified and degreed personal trainers<br />\n&bull\; Enjoy refreshments and light snacks</p>\n\n<h3><strong>About&nbsp\;</strong><strong>Northwestern Medicine Lake Forest Health &amp\; Fitness Center</strong><strong>.</strong></h3>\n\n<p>We believe in the power of staying active and maintaining a healthy lifestyle at every age. At&nbsp\;<strong>Northwestern Medicine Lake Forest Health &amp\; Fitness Center\,&nbsp\;</strong>we understand the specific needs of active seniors. We offer a wide range of equipment\, services and programs tailored for seniors. Whether you&rsquo\;re looking for low-impact cardio machines\, gentle group exercise classes or personalized training options\, we have something for everyone.</p>\n\n<p>We look forward to seeing you on Senior Health &amp\; Fitness Day. For more information\, please visit lakeforesthfc.com/offers or call 847.535.7060.</p>\n
LOCATION:Lake Forest Health & Fitness Center 1200 North Westmoreland Road Lake Forest\, Illinois 60045
UID:e.1126.30829
SEQUENCE:3
DTSTAMP:20260424T053518Z
URL:https://business.lflbchamber.com/events/details/senior-health-fitness-day-2025-at-the-northwestern-medicine-lake-forest-health-and-fitness-center-30829
END:VEVENT

END:VCALENDAR
