BEGIN:VCALENDAR
VERSION:2.0
PRODID:-//ChamberMaster//Event Calendar 2.0//EN
METHOD:PUBLISH
X-PUBLISHED-TTL:P3D
REFRESH-INTERVAL:P3D
CALSCALE:GREGORIAN
BEGIN:VEVENT
DTSTART:20200307T030000Z
DTEND:20200307T053000Z
X-MICROSOFT-CDO-ALLDAYEVENT:FALSE
SUMMARY:Sewing: School's Off! Kiwi Pillow Workshop
DESCRIPTION:Spend your day off sewing with Ciao Bella! Join us for a morning of sewing fun & make your very own Kiwi Pillow. This is a great way to learn about the sewing machine and have some fun. Sewing supplies\, including fabric\, thread\, needles\, and pins\, will be provided. This one-day workshop is great for boys & girls! Skill Level: Any Enrollment: Min 6 Max 12
X-ALT-DESC;FMTTYPE=text/html:Spend your day off sewing with Ciao Bella! Join us for a morning of sewing fun &amp\; make your very own Kiwi Pillow. This is a great way to learn about the sewing machine and have some fun. Sewing supplies\, including fabric\, thread\, needles\, and pins\, will be provided. This one-day workshop is great for boys &amp\; girls! Skill Level: Any Enrollment: Min 6 Max 12
LOCATION:Gorton Community Center
UID:e.1126.19100
SEQUENCE:3
DTSTAMP:20260420T121813Z
URL:https://business.lflbchamber.com/events/details/sewing-school-s-off-kiwi-pillow-workshop-19100
END:VEVENT

END:VCALENDAR
