BEGIN:VCALENDAR
VERSION:2.0
PRODID:-//ChamberMaster//Event Calendar 2.0//EN
METHOD:PUBLISH
X-PUBLISHED-TTL:P3D
REFRESH-INTERVAL:P3D
CALSCALE:GREGORIAN
BEGIN:VEVENT
DTSTART:20231116T013000Z
DTEND:20231116T040000Z
X-MICROSOFT-CDO-ALLDAYEVENT:FALSE
SUMMARY:She Loves Me
DESCRIPTION:Considered by many to be the most charming musical ever written! Set in a 1930s European perfumery\, we meet shop clerks\, Amalia and Georg\, who\, more often than not\, don't see eye to eye. After both respond to a "lonely hearts advertisement" in the newspaper\, they now live for the love letters that they exchange\, but the identity of their admirers remains unknown. Join Amalia and Georg to discover the identity of their true loves... and all the twists and turns along the way!
X-ALT-DESC;FMTTYPE=text/html:Considered by many to be the most charming musical ever written! Set in a 1930s European perfumery\, we meet shop clerks\, Amalia and Georg\, who\, more often than not\, don't see eye to eye. After both respond to a "lonely hearts advertisement" in the newspaper\, they now live for the love letters that they exchange\, but the identity of their admirers remains unknown. Join Amalia and Georg to discover the identity of their true loves... and all the twists and turns along the way!
LOCATION:Citadel Theatre (300 S. Waukegan Rd. Lake Forest\, IL 60045)
UID:e.1126.25609
SEQUENCE:3
DTSTAMP:20260424T111445Z
URL:https://business.lflbchamber.com/events/details/she-loves-me-25609
END:VEVENT

END:VCALENDAR
