BEGIN:VCALENDAR
VERSION:2.0
PRODID:-//ChamberMaster//Event Calendar 2.0//EN
METHOD:PUBLISH
X-PUBLISHED-TTL:P3D
REFRESH-INTERVAL:P3D
CALSCALE:GREGORIAN
BEGIN:VEVENT
DTSTART:20260505T210000Z
DTEND:20260505T230000Z
X-MICROSOFT-CDO-ALLDAYEVENT:FALSE
SUMMARY:Sheridan Home Ribbon Cutting and Cinco de Mayo Celebration
DESCRIPTION:Please join us in welcoming Sheridan Home to Lake Forest with a Ribbon Cutting and Cinco de Mayo celebration!
X-ALT-DESC;FMTTYPE=text/html:Please join us in welcoming Sheridan Home to Lake Forest with a Ribbon Cutting and Cinco de Mayo celebration!<br />\n&nbsp\;
LOCATION:234 E Wisconsin Ave Lake Forest\, IL 60045
UID:e.1126.33777
SEQUENCE:3
DTSTAMP:20260424T195547Z
URL:https://business.lflbchamber.com/events/details/sheridan-home-ribbon-cutting-and-cinco-de-mayo-celebration-33777
END:VEVENT

END:VCALENDAR
