BEGIN:VCALENDAR
VERSION:2.0
PRODID:-//ChamberMaster//Event Calendar 2.0//EN
METHOD:PUBLISH
X-PUBLISHED-TTL:P3D
REFRESH-INTERVAL:P3D
CALSCALE:GREGORIAN
BEGIN:VEVENT
DTSTART:20190623T180000Z
DTEND:20190623T220000Z
X-MICROSOFT-CDO-ALLDAYEVENT:FALSE
SUMMARY:Showhomes Festival--Cooler By The Lake
DESCRIPTION:An Exclusive Tour of\n\n3 Historically Rich Estates\n\nPresented for Today's Living\n\n\n\nEnjoy a summer Sunday with us: immerse yourself in an afternoon for charity and get the sweet taste of Lake Bluff and Lake Forest's opulent history in three historically significant Showhomes  rarely available to the public: a turn-of-the-century Victorian\; a lakefront property seeped in Classic Modernism\; and a storybook stone cottage straight from a fairy tale.\n\nWhile visiting each grand residence\, enjoy refreshments prepared and served by students of Roberti Community House's Culinary Pathway Program and musical entertainment by student ensembles of Bravo Waukegan. This special experience allows\n\nyou access to properties not available to you by car.\n\nSunday\, June 23\, 2019 n 1:00 pm   5:00 pm\n\n$100 per person\n\nIncludes shuttle transport from Lake Bluff Elementary School's parking lot to all 3 residences\; beverages and small bites\; entertainment\; access to historical docents\; and full-color informational brochure received when boarding the shuttle\n\nRESERVE YOUR SEAT ON THE SHUTTLE   ONLINE REGISTRATION ONLY  \n\nhttps://showhomes-festival.eventbrite.com/\n\nGUESTS 12 AND OLDER ARE WELCOME\n\n \n\nSPONSORED BY:\n\nShowhomes North Shore-Barrington\n\nJWC Media\n\nLake Bluff History Museum\n\n \n\n90% of all proceeds goes to:\nRoberti Community House\n\nBravo Waukegan\n\n \nHere is the link to the June issue of Forest & Bluff's article on the Showhomes event.  \n\nhttps://jwcdaily.com/forestbluffmagazine/2019/06/03/cooler-by-the-lake/
X-ALT-DESC;FMTTYPE=text/html:<p><span style="font-family:verdana"><span style="font-size:12pt"><span style="color:#008080">An Exclusive Tour of<br />\n3 Historically Rich Estates<br />\nPresented for Today&rsquo\;s Living<br />\n<br />\nEnjoy a summer Sunday with us: immerse yourself in an afternoon for charity and get the sweet taste of Lake Bluff and Lake Forest&rsquo\;s opulent history in three historically significant Showhomes&reg\; rarely available to the public: a turn-of-the-century Victorian\; a lakefront property seeped in Classic Modernism\; and a storybook stone cottage straight from a fairy tale.<br />\nWhile visiting each grand residence\, enjoy refreshments prepared and served by students of Roberti Community House&rsquo\;s Culinary Pathway Program and musical entertainment by student ensembles of <span style="font-size:14px">Bravo Waukegan. This special experience allows<br />\nyou access to properties not available to you by car.<br />\nSunday\, June 23\, 2019 n 1:00 pm &ndash\; 5:00 pm<br />\n$100 per person<br />\nIncludes shuttle transport from Lake Bluff Elementary School&rsquo\;s parking lot to all 3 residences\; beverages and small bites\; entertainment\; access to historical docents\; and full-color informational brochure received when boarding the shuttle<br />\nRESERVE YOUR SEAT ON THE SHUTTLE &mdash\; ONLINE REGISTRATION ONLY &mdash\;</span></span><br />\n<span style="font-size:14px"><a href="https://showhomes-festival.eventbrite.com/"><span style="color:#008080">https://showhomes-festival.eventbrite.com/</span></a><br />\n<span style="color:#008080">GUESTS 12 AND OLDER ARE WELCOME</span></span></span></span></p>\n\n<p><span style="font-family:verdana"><span style="font-size:14px"><span style="color:#008080">&nbsp\;</span></span></span></p>\n\n<p><span style="font-family:verdana"><span style="font-size:14px"><span style="color:#008080">SPONSORED BY:<br />\nShowhomes North Shore-Barrington<br />\nJWC Media<br />\nLake Bluff History Museum</span></span></span></p>\n\n<p><span style="font-family:verdana"><span style="font-size:14px"><span style="color:#008080">&nbsp\;</span></span></span></p>\n\n<p><span style="font-family:verdana"><span style="font-size:14px"><span style="color:#008080">90% of all proceeds goes to:</span></span></span></p>\n<span style="font-family:verdana"><span style="font-size:14px"><span style="color:#008080">Roberti Community House<br />\nBravo Waukegan</span></span></span><br />\n&nbsp\;\n<p><span style="font-size:14px"><span style="font-family:verdana"><span style="color:#008080">Here is the link to the June issue of Forest &amp\; Bluff&#39\;s article on the Showhomes event. &nbsp\;</span></span></span></p>\n\n<p><span style="font-size:14px"><span style="font-family:verdana"><a href="https://jwcdaily.com/forestbluffmagazine/2019/06/03/cooler-by-the-lake/"><span style="color:#008080">https://jwcdaily.com/forestbluffmagazine/2019/06/03/cooler-by-the-lake/</span></a></span></span></p>\n\n<p><span style="font-family:trebuchet ms\,sans-serif\; font-size:12pt">&nbsp\;</span></p>\n
LOCATION:Shuttle transportion from Lake Bluff Elementary School's parking lot to all 3 residences
UID:e.1126.18008
SEQUENCE:3
DTSTAMP:20260424T072930Z
URL:https://business.lflbchamber.com/events/details/showhomes-festival-cooler-by-the-lake-06-23-2019-18008
END:VEVENT

END:VCALENDAR
