BEGIN:VCALENDAR
VERSION:2.0
PRODID:-//ChamberMaster//Event Calendar 2.0//EN
METHOD:PUBLISH
X-PUBLISHED-TTL:P3D
REFRESH-INTERVAL:P3D
CALSCALE:GREGORIAN
BEGIN:VEVENT
DTSTART:20190623T180000Z
DTEND:20190623T220000Z
X-MICROSOFT-CDO-ALLDAYEVENT:FALSE
SUMMARY:Showhomes Festival: Cooler By The Lake
DESCRIPTION:An Exclusive Tour of 3 Historically Rich Estates!\n\nEnjoy a summer Sunday with us: Immerse yourself in an afternoon of charity and get the sweet taste of Lake Bluff and Lake Forest's opulent history in three historically significant Showhomes  rarely available to the public: A turn of the century Victorian\, a lakefront property seeped in Classic Modernism\, and a storybook stone cottage straight from a fairy tale.\n\nWhile visiting each grand residence\, enjoy refreshments prepared and served by students from ROBERTI COMMUNITY HOUSE'S Culinary Pathway Program and musical entertainment by student ensembles of BRAVO WAUKEGAN. This special experience allows you access to properties not available to you by car.\n\nTickets: $100 per person\, includes:\n\n\n	beverages and small bites\n	entertainment\n	access to historical docents\n	full-color informational brochure upon boarding the shuttle\n\n\n90% OF ALL PROCEEDS GOES TO SUPPORT ROBERTI COMMUNITY HOUSE & BRAVO WAUKEGAN\n\nLearn more about Roberti Community House: https://www.youtube.com/watch?v=PsilFaIHCHA\n\nLearn more about Bravo Waukegan: https://www.youtube.com/watch?v=WpDZgpyOkzY\n\nIncludes shuttle transportation from Lake Bluff Elementary School's parking lot to all 3 residences.
X-ALT-DESC;FMTTYPE=text/html:<p>An Exclusive Tour of 3 Historically Rich Estates!</p>\n\n<p>Enjoy a summer Sunday with us: Immerse yourself in an afternoon of charity and get the sweet taste of Lake Bluff and Lake Forest&#39\;s opulent history in three historically significant Showhomes&reg\; rarely available to the public: A turn of the century Victorian\, a lakefront property seeped in Classic Modernism\, and a storybook stone cottage straight from a fairy tale.</p>\n\n<p>While visiting each grand residence\, enjoy refreshments prepared and served by students from ROBERTI COMMUNITY HOUSE&#39\;S Culinary Pathway Program and musical entertainment by student ensembles of BRAVO WAUKEGAN. This special experience allows you access to properties not available to you by car.</p>\n\n<p>Tickets: $100 per person\, includes:</p>\n\n<ul>\n	<li>beverages and small bites</li>\n	<li>entertainment</li>\n	<li>access to historical docents</li>\n	<li>full-color informational brochure upon boarding the shuttle</li>\n</ul>\n\n<p>90% OF ALL PROCEEDS GOES TO SUPPORT ROBERTI COMMUNITY HOUSE &amp\; BRAVO WAUKEGAN</p>\n\n<p>Learn more about Roberti Community House: <a href="https://www.youtube.com/watch?v=PsilFaIHCHA" rel="nofollow noopener noreferrer" style="background-color: transparent\; color: var(--eds-control\,#3659e3)\; cursor: pointer\; padding-top: 0px\; text-decoration-line: none\;" target="_blank">https://www.youtube.com/watch?v=PsilFaIHCHA</a></p>\n\n<p>Learn more about Bravo Waukegan: <a href="https://www.youtube.com/watch?v=WpDZgpyOkzY" rel="nofollow noopener noreferrer" style="background-color: transparent\; color: var(--eds-control\,#3659e3)\; cursor: pointer\; padding-top: 0px\; text-decoration-line: none\;" target="_blank">https://www.youtube.com/watch?v=WpDZgpyOkzY</a></p>\n\n<p>Includes shuttle transportation from Lake Bluff Elementary School&#39\;s parking lot to all 3 residences.</p>\n
LOCATION:Event Shuttle Pick-up and Drop Off Location: Lake Bluff Elementary School 350 W Washington Ave Lake Bluff\, IL 60044
UID:e.1126.17904
SEQUENCE:3
DTSTAMP:20260424T072222Z
URL:https://business.lflbchamber.com/events/details/showhomes-festival-cooler-by-the-lake-17904
END:VEVENT

END:VCALENDAR
