BEGIN:VCALENDAR
VERSION:2.0
PRODID:-//ChamberMaster//Event Calendar 2.0//EN
METHOD:PUBLISH
X-PUBLISHED-TTL:P3D
REFRESH-INTERVAL:P3D
CALSCALE:GREGORIAN
BEGIN:VEVENT
DTSTART:20260411T170000Z
DTEND:20260411T190000Z
X-MICROSOFT-CDO-ALLDAYEVENT:FALSE
SUMMARY:Sign Up for Curbside Compost Collection
DESCRIPTION:Drop in to the Library Foyer to learn about the City's partnership with WasteNot\, Chicagoland's first and largest zero-emission compost service\, offering residential food scrap pick-up.
X-ALT-DESC;FMTTYPE=text/html:<span style="font-family:gotham\,sans-serif\; font-size:14px">Drop in to the Library Foyer to learn about the City&#39\;s partnership with WasteNot\, Chicagoland&#39\;s first and largest zero-emission compost service\, offering residential food scrap pick-up.</span>
LOCATION:Lake Forest Library 360 E Deerpath Rd Lake Forest IL 60045
UID:e.1126.33882
SEQUENCE:3
DTSTAMP:20260425T220711Z
URL:https://business.lflbchamber.com/events/details/sign-up-for-curbside-compost-collection-33882
END:VEVENT

END:VCALENDAR
