BEGIN:VCALENDAR
VERSION:2.0
PRODID:-//ChamberMaster//Event Calendar 2.0//EN
METHOD:PUBLISH
X-PUBLISHED-TTL:P3D
REFRESH-INTERVAL:P3D
CALSCALE:GREGORIAN
BEGIN:VEVENT
DTSTART:20200902T180000Z
DTEND:20200902T190000Z
X-MICROSOFT-CDO-ALLDAYEVENT:FALSE
SUMMARY:Social Security 101
DESCRIPTION:Social Security is with you through life's journey. During this interactive presentation\, information regarding Social Security\, SSDI & SSI benefit programs will be discussed. Time will be allotted for questions. Please join us! Reservations are required. Please email events@elderwerks.org to call 847-462-0885 to RSVP. Access information to the webinar will be provided after registration.
X-ALT-DESC;FMTTYPE=text/html:Social Security is with you through life&#39\;s journey. During this interactive presentation\, information regarding Social Security\, SSDI &amp\; SSI benefit programs will be discussed. Time will be allotted for questions. Please join us! Reservations are required. Please email events@elderwerks.org to call 847-462-0885 to RSVP. Access information to the webinar will be provided after registration.
LOCATION:Zoom
UID:e.1126.19567
SEQUENCE:3
DTSTAMP:20260425T142458Z
URL:https://business.lflbchamber.com/events/details/social-security-101-19567
END:VEVENT

END:VCALENDAR
