BEGIN:VCALENDAR
VERSION:2.0
PRODID:-//ChamberMaster//Event Calendar 2.0//EN
METHOD:PUBLISH
X-PUBLISHED-TTL:P3D
REFRESH-INTERVAL:P3D
CALSCALE:GREGORIAN
BEGIN:VEVENT
DTSTART:20190326T193000Z
DTEND:20190326T203000Z
X-MICROSOFT-CDO-ALLDAYEVENT:FALSE
SUMMARY:Spring Break Movie Series
DESCRIPTION:Drop in for our Roald Dahl-themed movie week during spring break. Popcorn will be provided. Monday: Matilda (1996\, PG\, 1 hr 42 mins) Tuesday: BFG (2016\, PG\, 1 hr 57 mins) Wednesday: James and the Giant Peach (1996\, PG\, 1 hr 19 mins) Thursday: Charlie and the Chocolate Factory (2005\, PG\, 1 hr 55 mins)
X-ALT-DESC;FMTTYPE=text/html:Drop in for our Roald Dahl-themed movie week during spring break. Popcorn will be provided. Monday: Matilda (1996\, PG\, 1 hr 42 mins) Tuesday: BFG (2016\, PG\, 1 hr 57 mins) Wednesday: James and the Giant Peach (1996\, PG\, 1 hr 19 mins) Thursday: Charlie and the Chocolate Factory (2005\, PG\, 1 hr 55 mins)
LOCATION:Lake Bluff Public Library 123 E Scranton Ave. Lake Bluff\, IL 60044
UID:e.1126.17630
SEQUENCE:3
DTSTAMP:20260424T113715Z
URL:https://business.lflbchamber.com/events/details/spring-break-movie-series-03-26-2019-17630
END:VEVENT

END:VCALENDAR
