BEGIN:VCALENDAR
VERSION:2.0
PRODID:-//ChamberMaster//Event Calendar 2.0//EN
METHOD:PUBLISH
X-PUBLISHED-TTL:P3D
REFRESH-INTERVAL:P3D
CALSCALE:GREGORIAN
BEGIN:VEVENT
DTSTART:20250517T130000Z
DTEND:20250517T180000Z
X-MICROSOFT-CDO-ALLDAYEVENT:FALSE
SUMMARY:Spring Plant & Sale
DESCRIPTION:It's easy to get started! Go ahead and pick a "problem spot" a spot where the ground stays soggy\, the sun burns hot or there is deep shade most of the day. You can dig out an invasive species\, roots and all\, and start over. Join LFOLA and purchase your native plants\, shrubs or trees! You'll find your yard boasts beautiful attributes while serving as important sources of food in local food chains. Pre-order your pints\, trees\, and shrubs today! Pre-order is available through Thursday\, May 16 @ 8:00 a.m.
X-ALT-DESC;FMTTYPE=text/html:It&rsquo\;s easy to get started! Go ahead and pick a &ldquo\;problem spot&rdquo\;&mdash\;a spot where the ground stays soggy\, the sun burns hot or there is deep shade most of the day. You can dig out an invasive species\, roots and all\, and start over. Join LFOLA and purchase your native plants\, shrubs or trees! You&rsquo\;ll find your yard boasts beautiful attributes while serving as important sources of food in local food chains. Pre-order your pints\, trees\, and shrubs today! Pre-order is available through Thursday\, May 16 @ 8:00 a.m.
LOCATION:Lake Forest Open Lands Association Mellody Farm Nature Preserve 350 N. Waukegan Road Lake Forest
UID:e.1126.30698
SEQUENCE:3
DTSTAMP:20260424T053847Z
URL:https://business.lflbchamber.com/events/details/spring-plant-sale-30698
END:VEVENT

END:VCALENDAR
