BEGIN:VCALENDAR
VERSION:2.0
PRODID:-//ChamberMaster//Event Calendar 2.0//EN
METHOD:PUBLISH
X-PUBLISHED-TTL:P3D
REFRESH-INTERVAL:P3D
CALSCALE:GREGORIAN
BEGIN:VEVENT
DTSTART:20190322T000000Z
DTEND:20190322T010000Z
X-MICROSOFT-CDO-ALLDAYEVENT:FALSE
SUMMARY:Spring Vegetable Gardening Workshop
DESCRIPTION:Lettuce\, arugula\, and radishes are just a few of the many veggies you can harvest this spring! Marissa Hopkins\, an urban farmer\, will show how to grow a super-easy spring vegetable garden in pots or in the ground--anywhere you have a little sun. This program's raffle prizes are sponsored by the Friends of the Library and Pasquesi Home and Garden.\n\n\n\nRegistration is Required.
X-ALT-DESC;FMTTYPE=text/html:Lettuce\, arugula\, and radishes are just a few of the many veggies you can harvest this spring! Marissa Hopkins\, an urban farmer\, will show how to grow a super-easy spring vegetable garden in pots or in the ground--anywhere you have a little sun. This program&#39\;s raffle prizes are sponsored by the Friends of the Library and Pasquesi Home and Garden.<br />\n<br />\nRegistration is Required.
LOCATION:Lake Bluff Public Library 123 E Scranton Ave.\, Lake Bluff\, IL 60044
UID:e.1126.17624
SEQUENCE:3
DTSTAMP:20260424T095939Z
URL:https://business.lflbchamber.com/events/details/spring-vegetable-gardening-workshop-17624
END:VEVENT

END:VCALENDAR
