BEGIN:VCALENDAR
VERSION:2.0
PRODID:-//ChamberMaster//Event Calendar 2.0//EN
METHOD:PUBLISH
X-PUBLISHED-TTL:P3D
REFRESH-INTERVAL:P3D
CALSCALE:GREGORIAN
BEGIN:VEVENT
DTSTART:20231209T160000Z
DTEND:20231209T220000Z
X-MICROSOFT-CDO-ALLDAYEVENT:FALSE
SUMMARY:Stirling Hall Holiday Art Sale
DESCRIPTION:Do not miss this great opportunity to purchase hand-crafted gifts for the family during the holiday season. A portion of all sales helps support the Art Center. Constructed in 1929 and designed by the renowned North Shore architect Edwin H. Clark\, Stirling Hall is Lake Forest's best kept secret. Stirling Hall houses a fully-equipped\, professionally staffed art center with an emphasis on ceramics. We offer both adult and youth art classes in wheel throwing\, hand building\, mosaics\, sculpture\, tile\, and painting. We also offer seasonal workshops for adults and children. Stop by the sale and see Stirling Hall for yourself! Dates/Times: Friday\, December 8   6:00 pm - 9:00 pm Saturday\, December 9   10:00 am - 4:00 pm
X-ALT-DESC;FMTTYPE=text/html:Do not miss this great opportunity to purchase hand-crafted gifts for the family during the holiday season. A portion of all sales helps support the Art Center. Constructed in 1929 and designed by the renowned North Shore architect Edwin H. Clark\, Stirling Hall is Lake Forest&#39\;s best kept secret. Stirling Hall houses a fully-equipped\, professionally staffed art center with an emphasis on ceramics. We offer both adult and youth art classes in wheel throwing\, hand building\, mosaics\, sculpture\, tile\, and painting. We also offer seasonal workshops for adults and children. Stop by the sale and see Stirling Hall for yourself! Dates/Times: Friday\, December 8 &bull\; 6:00 pm - 9:00 pm Saturday\, December 9 &bull\; 10:00 am - 4:00 pm
LOCATION:Dickinson Hall (Adjacent to Stirling Hall) 100 E. Old Mill Road
UID:e.1126.25727
SEQUENCE:3
DTSTAMP:20260424T100718Z
URL:https://business.lflbchamber.com/events/details/stirling-hall-holiday-art-sale-12-09-2023-25727
END:VEVENT

END:VCALENDAR
