BEGIN:VCALENDAR
VERSION:2.0
PRODID:-//ChamberMaster//Event Calendar 2.0//EN
METHOD:PUBLISH
X-PUBLISHED-TTL:P3D
REFRESH-INTERVAL:P3D
CALSCALE:GREGORIAN
BEGIN:VEVENT
DTSTART:20191015T160000Z
DTEND:20191015T163000Z
X-MICROSOFT-CDO-ALLDAYEVENT:FALSE
SUMMARY:Storytime: All By Myself
DESCRIPTION:(ages 3+) This storytime is for children who are ready to attend on their own. They will enjoy longer stories\, songs\, and a simple\, age-appropriate craft that they can complete independently.
X-ALT-DESC;FMTTYPE=text/html:<br />\n(ages 3+) This storytime is for children who are ready to attend on their own. They will enjoy longer stories\, songs\, and a simple\, age-appropriate craft that they can complete independently.
LOCATION:Lake Bluff Public Library 123 E. Scranton Ave. Lake Bluff\, IL 60044
UID:e.1126.18223
SEQUENCE:3
DTSTAMP:20260424T000342Z
URL:https://business.lflbchamber.com/events/details/storytime-all-by-myself-10-15-2019-18223
END:VEVENT

END:VCALENDAR
