BEGIN:VCALENDAR
VERSION:2.0
PRODID:-//ChamberMaster//Event Calendar 2.0//EN
METHOD:PUBLISH
X-PUBLISHED-TTL:P3D
REFRESH-INTERVAL:P3D
CALSCALE:GREGORIAN
BEGIN:VEVENT
DTSTART:20190809T140000Z
DTEND:20190809T143000Z
X-MICROSOFT-CDO-ALLDAYEVENT:FALSE
SUMMARY:Storytime on the Green
DESCRIPTION:Children of all ages can join us in the Gazebo during the Farmer's Market for this relaxing storytime. Grab a treat at the market\, bring a blanket to sit on\, and listen to some fun books. (weather permitting)
X-ALT-DESC;FMTTYPE=text/html:<br />\nChildren of all ages can join us in the Gazebo during the Farmer&#39\;s Market for this relaxing storytime. Grab a treat at the market\, bring a blanket to sit on\, and listen to some fun books. (weather permitting)
LOCATION:Lake Bluff Village Green
UID:e.1126.18067
SEQUENCE:3
DTSTAMP:20260424T030600Z
URL:https://business.lflbchamber.com/events/details/storytime-on-the-green-08-09-2019-18067
END:VEVENT

END:VCALENDAR
