BEGIN:VCALENDAR
VERSION:2.0
PRODID:-//ChamberMaster//Event Calendar 2.0//EN
METHOD:PUBLISH
X-PUBLISHED-TTL:P3D
REFRESH-INTERVAL:P3D
CALSCALE:GREGORIAN
BEGIN:VEVENT
DTSTART:20190607T140000Z
DTEND:20190607T143000Z
X-MICROSOFT-CDO-ALLDAYEVENT:FALSE
SUMMARY:Storytime on the Green
DESCRIPTION:Children of all ages can join us in the Gazebo during the Farmer's Market for this relaxing storytime. Grab a treat at the market\, bring a blanket to sit on\, and listen to some fun books. (weather permitting)\n\n\n\nRegistration is not required.
X-ALT-DESC;FMTTYPE=text/html:<span style="color:rgb(0\, 0\, 0)\; font-family:arial\,sans-serif\; font-size:14.0085px">Children of all ages can join us in the Gazebo during the Farmer&#39\;s Market for this relaxing storytime. Grab a treat at the market\, bring a blanket to sit on\, and listen to some fun books. (weather permitting)<br />\n<br />\nRegistration is not required.</span>
LOCATION:Lake Bluff Public Library 123 E. Scranton Ave. Lake Bluff\, IL 60044
UID:e.1126.17919
SEQUENCE:3
DTSTAMP:20260424T071535Z
URL:https://business.lflbchamber.com/events/details/storytime-on-the-green-17919
END:VEVENT

END:VCALENDAR
